FILENAME: O4510644.NES.1010808.tif
QUADRANGLE_NAME: BIRNEY
QUADRANT: NE
WEST_LONGITUDE: -106 33 45.00000
EAST_LONGITUDE: -106 30 0.00000
NORTH_LATITUDE: 45 22 30.00000
SOUTH_LATITUDE: 45 18 45.00000
PRODUCTION_DATE: 1999 6 11
RASTER_ORDER: LEFT_RIGHT/TOP_BOTTOM
BAND_ORGANIZATION: SINGLE FILE
BAND_CONTENT: BLACK&WHITE
BAND_CONTENT: UNDEFINED
BAND_CONTENT: UNDEFINED
BITS_PER_PIXEL: 8
SAMPLES_AND_LINES: 5678 7639
HORIZONTAL_DATUM: NAD83
HORIZONTAL_COORDINATE_SYSTEM: UTM
COORDINATE_ZONE: 13
HORIZONTAL_UNITS: METERS
HORIZONTAL_RESOLUTION: 1.00000
SECONDARY_HORIZONTAL_DATUM: NAD27
XY_ORIGIN: 377174.00000 5026097.00000
SECONDARY_XY_ORIGIN: 377216.81400 5025879.73900
NATION: US
NATION: "SCIENCE
STATE: MT
NW_QUAD_CORNER_XY: 377657.22500 5025796.95100
NE_QUAD_CORNER_XY: 382550.92300 5025703.84600
SE_QUAD_CORNERY_XY: 382421.58900 5018760.49400
SW_QUAD_CORNER_XY: 377522.50000 5018853.60100
SECONDARY_NW_QUAD_XY: 377653.58400 5025579.47800
SECONDARY_NE_QUAD_XY: 382547.42800 5025486.37000
SECONDARY_SE_QUAD_XY: 382418.09500 5018543.06800
SECONDARY_SW_QUAD_XY: 377518.86000 5018636.17800
RMSE_XY: 2.00000
IMAGE_SOURCE: BLACK AND WHITE FILM
SOURCE_IMAGE_ID: NAPP 9110 021
SOURCE_IMAGE_DATE: 1996 08 11
SOURCE_IMAGE_ID: NAPP 9111 009
SOURCE_IMAGE_DATE: 1996 08 11
SOURCE_DEM_DATE: 1966 00 00
AGENCY: WESTERN MAPPING CENTER (WMC)
PRODUCER: UNDEFINED
PRODUCTION_SYSTEM: GIS/MAGIC
COMPRESSION: UNDEFINED
STANDARD_VERSION: 1996 12
METADATA_DATE: 1999 06 15
DATA_FILE_SIZE: 43379920
BYTE_COUNT: 5678
