FILENAME: O4510645.SWS.1010815.tif
QUADRANGLE_NAME: BROWNS MOUNTAIN
QUADRANT: SW
WEST_LONGITUDE: -106 30 0.00000
EAST_LONGITUDE: -106 26 15.00000
NORTH_LATITUDE: 45 18 45.00000
SOUTH_LATITUDE: 45 15 0.00000
PRODUCTION_DATE: 1999 6 11
RASTER_ORDER: LEFT_RIGHT/TOP_BOTTOM
BAND_ORGANIZATION: SINGLE FILE
BAND_CONTENT: BLACK&WHITE
BAND_CONTENT: UNDEFINED
BAND_CONTENT: UNDEFINED
BITS_PER_PIXEL: 8
SAMPLES_AND_LINES: 5678 7636
HORIZONTAL_DATUM: NAD83
HORIZONTAL_COORDINATE_SYSTEM: UTM
COORDINATE_ZONE: 13
HORIZONTAL_UNITS: METERS
HORIZONTAL_RESOLUTION: 1.00000
SECONDARY_HORIZONTAL_DATUM: NAD27
XY_ORIGIN: 381944.00000 5019061.00000
SECONDARY_XY_ORIGIN: 381986.94200 5018843.76100
NATION: US
NATION: "SCIENCE
STATE: MT
NW_QUAD_CORNER_XY: 382421.58900 5018760.49400
NE_QUAD_CORNER_XY: 387320.67900 5018671.18900
SE_QUAD_CORNERY_XY: 387196.87200 5011727.90600
SW_QUAD_CORNER_XY: 382292.39600 5011817.21200
SECONDARY_NW_QUAD_XY: 382418.09500 5018543.06800
SECONDARY_NE_QUAD_XY: 387317.33100 5018453.76000
SECONDARY_SE_QUAD_XY: 387193.52400 5011510.52900
SECONDARY_SW_QUAD_XY: 382288.90200 5011599.83900
RMSE_XY: 1.20000
IMAGE_SOURCE: BLACK AND WHITE FILM
SOURCE_IMAGE_ID: NAPP 9115 175
SOURCE_IMAGE_DATE: 1996 09 10
SOURCE_IMAGE_ID: NAPP 9115 174
SOURCE_IMAGE_DATE: 1996 09 10
SOURCE_DEM_DATE: 1987 00 00
AGENCY: WESTERN MAPPING CENTER (WMC)
PRODUCER: UNDEFINED
PRODUCTION_SYSTEM: GIS/MAGIC
COMPRESSION: UNDEFINED
STANDARD_VERSION: 1996 12
METADATA_DATE: 1999 06 15
DATA_FILE_SIZE: 43362886
BYTE_COUNT: 5678
