FILENAME: O4510646.NWS.1010821.tif
QUADRANGLE_NAME: POKER JIM BUTTE
QUADRANT: NW
WEST_LONGITUDE: -106 22 30.00000
EAST_LONGITUDE: -106 18 45.00000
NORTH_LATITUDE: 45 22 30.00000
SOUTH_LATITUDE: 45 18 45.00000
PRODUCTION_DATE: 1999 6 11
RASTER_ORDER: LEFT_RIGHT/TOP_BOTTOM
BAND_ORGANIZATION: SINGLE FILE
BAND_CONTENT: BLACK&WHITE
BAND_CONTENT: UNDEFINED
BAND_CONTENT: UNDEFINED
BITS_PER_PIXEL: 8
SAMPLES_AND_LINES: 5662 7629
HORIZONTAL_DATUM: NAD83
HORIZONTAL_COORDINATE_SYSTEM: UTM
COORDINATE_ZONE: 13
HORIZONTAL_UNITS: METERS
HORIZONTAL_RESOLUTION: 1.00000
SECONDARY_HORIZONTAL_DATUM: NAD27
XY_ORIGIN: 391872.00000 5025830.00000
SECONDARY_XY_ORIGIN: 391914.42300 5025612.35300
NATION: US
NATION: "SCIENCE
STATE: MT
NW_QUAD_CORNER_XY: 392338.32300 5025529.04200
NE_QUAD_CORNER_XY: 397232.02500 5025447.34100
SE_QUAD_CORNERY_XY: 397118.86400 5018503.98300
SW_QUAD_CORNER_XY: 392219.77100 5018585.68500
SECONDARY_NW_QUAD_XY: 392335.11900 5025311.56000
SECONDARY_NE_QUAD_XY: 397228.96700 5025229.85700
SECONDARY_SE_QUAD_XY: 397115.80700 5018286.55000
SECONDARY_SW_QUAD_XY: 392216.56800 5018368.25400
RMSE_XY: 1.80000
IMAGE_SOURCE: BLACK AND WHITE FILM
SOURCE_IMAGE_ID: NAPP 9102 094
SOURCE_IMAGE_DATE: 1996 07 14
SOURCE_IMAGE_ID: NAPP 9106 221
SOURCE_IMAGE_DATE: 1996 08 07
SOURCE_IMAGE_ID: NAPP 9102 095
SOURCE_IMAGE_DATE: 1996 07 14
SOURCE_IMAGE_ID: NAPP 9102 093
SOURCE_IMAGE_DATE: 1996 07 14
SOURCE_DEM_DATE: 1992 00 00
AGENCY: WESTERN MAPPING CENTER (WMC)
PRODUCER: UNDEFINED
PRODUCTION_SYSTEM: GIS/MAGIC
COMPRESSION: UNDEFINED
STANDARD_VERSION: 1996 12
METADATA_DATE: 1999 06 15
DATA_FILE_SIZE: 43201060
BYTE_COUNT: 5662
