FILENAME: O4510647.NES.1010828.tif
QUADRANGLE_NAME: FORT HOWES
QUADRANT: NE
WEST_LONGITUDE: -106 11 15.00000
EAST_LONGITUDE: -106 7 30.00000
NORTH_LATITUDE: 45 22 30.00000
SOUTH_LATITUDE: 45 18 45.00000
PRODUCTION_DATE: 1999 6 11
RASTER_ORDER: LEFT_RIGHT/TOP_BOTTOM
BAND_ORGANIZATION: SINGLE FILE
BAND_CONTENT: BLACK&WHITE
BAND_CONTENT: UNDEFINED
BAND_CONTENT: UNDEFINED
BITS_PER_PIXEL: 8
SAMPLES_AND_LINES: 5644 7617
HORIZONTAL_DATUM: NAD83
HORIZONTAL_COORDINATE_SYSTEM: UTM
COORDINATE_ZONE: 13
HORIZONTAL_UNITS: METERS
HORIZONTAL_RESOLUTION: 1.00000
SECONDARY_HORIZONTAL_DATUM: NAD27
XY_ORIGIN: 406571.00000 5025596.00000
SECONDARY_XY_ORIGIN: 406613.04700 5025378.24700
NATION: US
NATION: "SCIENCE
STATE: MT
NW_QUAD_CORNER_XY: 407019.43500 5025295.34500
NE_QUAD_CORNER_XY: 411913.14100 5025225.04800
SE_QUAD_CORNERY_XY: 411816.15000 5018281.68500
SW_QUAD_CORNER_XY: 406917.05400 5018351.98300
SECONDARY_NW_QUAD_XY: 407016.66700 5025077.85600
SECONDARY_NE_QUAD_XY: 411910.52000 5025007.55800
SECONDARY_SE_QUAD_XY: 411813.52900 5018064.24500
SECONDARY_SW_QUAD_XY: 406914.28700 5018134.54500
RMSE_XY: 1.50000
IMAGE_SOURCE: BLACK AND WHITE FILM
SOURCE_IMAGE_ID: NAPP 9090 124
SOURCE_IMAGE_DATE: 1996 07 07
SOURCE_IMAGE_ID: NAPP 9090 168
SOURCE_IMAGE_DATE: 1996 07 07
SOURCE_IMAGE_ID: NAPP 9090 166
SOURCE_IMAGE_DATE: 1996 07 07
SOURCE_IMAGE_ID: NAPP 9090 123
SOURCE_IMAGE_DATE: 1996 07 07
SOURCE_IMAGE_ID: NAPP 9090 125
SOURCE_IMAGE_DATE: 1996 07 07
SOURCE_DEM_DATE: 1992 00 00
AGENCY: WESTERN MAPPING CENTER (WMC)
PRODUCER: UNDEFINED
PRODUCTION_SYSTEM: GIS/MAGIC
COMPRESSION: UNDEFINED
STANDARD_VERSION: 1996 12
METADATA_DATE: 1999 06 15
DATA_FILE_SIZE: 42995992
BYTE_COUNT: 5644
