FILENAME: O4510649.NWS.1010378.tif
QUADRANGLE_NAME: HALF MOON HILL
QUADRANT: NW
WEST_LONGITUDE: -107 0 0.00000
EAST_LONGITUDE: -106 56 15.00000
NORTH_LATITUDE: 45 15 0.00000
SOUTH_LATITUDE: 45 11 15.00000
PRODUCTION_DATE: 1999 6 8
RASTER_ORDER: LEFT_RIGHT/TOP_BOTTOM
BAND_ORGANIZATION: SINGLE FILE
BAND_CONTENT: BLACK&WHITE
BAND_CONTENT: UNDEFINED
BAND_CONTENT: UNDEFINED
BITS_PER_PIXEL: 8
SAMPLES_AND_LINES: 5729 7667
HORIZONTAL_DATUM: NAD83
HORIZONTAL_COORDINATE_SYSTEM: UTM
COORDINATE_ZONE: 13
HORIZONTAL_UNITS: METERS
HORIZONTAL_RESOLUTION: 1.00000
SECONDARY_HORIZONTAL_DATUM: NAD27
XY_ORIGIN: 342534.00000 5012969.00000
SECONDARY_XY_ORIGIN: 342578.56900 5012753.29700
NATION: US
NATION: "SCIENCE
STATE: MT
NW_QUAD_CORNER_XY: 343056.63000 5012668.56200
NE_QUAD_CORNER_XY: 347961.09600 5012548.83200
SE_QUAD_CORNERY_XY: 347794.37900 5005605.63200
SW_QUAD_CORNER_XY: 342884.53000 5005725.36300
SECONDARY_NW_QUAD_XY: 343051.97200 5012451.21300
SECONDARY_NE_QUAD_XY: 347956.58400 5012331.48000
SECONDARY_SE_QUAD_XY: 347789.86700 5005388.33200
SECONDARY_SW_QUAD_XY: 342879.87300 5005508.06700
RMSE_XY: 1.90000
IMAGE_SOURCE: BLACK AND WHITE FILM
SOURCE_IMAGE_ID: NAPP 9099 021
SOURCE_IMAGE_DATE: 1996 07 14
SOURCE_IMAGE_ID: NAPP 9099 020
SOURCE_IMAGE_DATE: 1996 07 14
SOURCE_IMAGE_ID: NAPP 9099 022
SOURCE_IMAGE_DATE: 1996 07 14
SOURCE_DEM_DATE: 1978 00 00
AGENCY: WESTERN MAPPING CENTER (WMC)
PRODUCER: UNDEFINED
PRODUCTION_SYSTEM: GIS/MAGIC
COMPRESSION: UNDEFINED
STANDARD_VERSION: 1996 12
METADATA_DATE: 1999 06 14
DATA_FILE_SIZE: 43929972
BYTE_COUNT: 5729
