FILENAME: O4510650.SES.1010395.tif
QUADRANGLE_NAME: TONGUE RIVER DAM
QUADRANT: SE
WEST_LONGITUDE: -106 48 45.00000
EAST_LONGITUDE: -106 45 0.00000
NORTH_LATITUDE: 45 11 15.00000
SOUTH_LATITUDE: 45 7 30.00000
PRODUCTION_DATE: 1999 6 8
RASTER_ORDER: LEFT_RIGHT/TOP_BOTTOM
BAND_ORGANIZATION: SINGLE FILE
BAND_CONTENT: BLACK&WHITE
BAND_CONTENT: UNDEFINED
BAND_CONTENT: UNDEFINED
BITS_PER_PIXEL: 8
SAMPLES_AND_LINES: 5717 7656
HORIZONTAL_DATUM: NAD83
HORIZONTAL_COORDINATE_SYSTEM: UTM
COORDINATE_ZONE: 13
HORIZONTAL_UNITS: METERS
HORIZONTAL_RESOLUTION: 1.00000
SECONDARY_HORIZONTAL_DATUM: NAD27
XY_ORIGIN: 357108.00000 5005678.00000
SECONDARY_XY_ORIGIN: 357152.28300 5005462.02600
NATION: US
NATION: "SCIENCE
STATE: MT
NW_QUAD_CORNER_XY: 357614.07900 5005377.57900
NE_QUAD_CORNER_XY: 362523.93000 5005269.25800
SE_QUAD_CORNERY_XY: 362373.52100 4998326.12300
SW_QUAD_CORNER_XY: 357458.29500 4998434.44500
SECONDARY_NW_QUAD_XY: 357609.85800 5005160.27300
SECONDARY_NE_QUAD_XY: 362519.85500 5005051.94900
SECONDARY_SE_QUAD_XY: 362369.44800 4998108.86700
SECONDARY_SW_QUAD_XY: 357454.07600 4998217.19200
RMSE_XY: 2.00000
IMAGE_SOURCE: BLACK AND WHITE FILM
SOURCE_IMAGE_ID: NAPP 9115 089
SOURCE_IMAGE_DATE: 1996 09 10
SOURCE_IMAGE_ID: NAPP 9115 088
SOURCE_IMAGE_DATE: 1996 09 10
SOURCE_IMAGE_ID: NAPP 9115 107
SOURCE_IMAGE_DATE: 1996 09 10
SOURCE_IMAGE_ID: NAPP 9115 109
SOURCE_IMAGE_DATE: 1996 09 10
SOURCE_DEM_DATE: 1966 00 00
AGENCY: WESTERN MAPPING CENTER (WMC)
PRODUCER: UNDEFINED
PRODUCTION_SYSTEM: GIS/MAGIC
COMPRESSION: UNDEFINED
STANDARD_VERSION: 1996 12
METADATA_DATE: 1999 06 14
DATA_FILE_SIZE: 43775069
BYTE_COUNT: 5717
