FILENAME: O4510650.NWS.1010394.tif
QUADRANGLE_NAME: TONGUE RIVER DAM
QUADRANT: NW
WEST_LONGITUDE: -106 52 30.00000
EAST_LONGITUDE: -106 48 45.00000
NORTH_LATITUDE: 45 15 0.00000
SOUTH_LATITUDE: 45 11 15.00000
PRODUCTION_DATE: 1999 6 8
RASTER_ORDER: LEFT_RIGHT/TOP_BOTTOM
BAND_ORGANIZATION: SINGLE FILE
BAND_CONTENT: BLACK&WHITE
BAND_CONTENT: UNDEFINED
BAND_CONTENT: UNDEFINED
BITS_PER_PIXEL: 8
SAMPLES_AND_LINES: 5718 7659
HORIZONTAL_DATUM: NAD83
HORIZONTAL_COORDINATE_SYSTEM: UTM
COORDINATE_ZONE: 13
HORIZONTAL_UNITS: METERS
HORIZONTAL_RESOLUTION: 1.00000
SECONDARY_HORIZONTAL_DATUM: NAD27
XY_ORIGIN: 352354.00000 5012733.00000
SECONDARY_XY_ORIGIN: 352398.25400 5012516.99300
NATION: US
NATION: "SCIENCE
STATE: MT
NW_QUAD_CORNER_XY: 352865.56400 5012432.90500
NE_QUAD_CORNER_XY: 357770.03300 5012320.78300
SE_QUAD_CORNERY_XY: 357614.07900 5005377.57900
SW_QUAD_CORNER_XY: 352704.22800 5005489.70400
SECONDARY_NW_QUAD_XY: 352861.19700 5012215.55000
SECONDARY_NE_QUAD_XY: 357765.81200 5012103.42400
SECONDARY_SE_QUAD_XY: 357609.85800 5005160.27300
SECONDARY_SW_QUAD_XY: 352699.86200 5005272.40100
RMSE_XY: 1.90000
IMAGE_SOURCE: BLACK AND WHITE FILM
SOURCE_IMAGE_ID: NAPP 9115 023
SOURCE_IMAGE_DATE: 1996 09 10
SOURCE_IMAGE_ID: NAPP 9115 022
SOURCE_IMAGE_DATE: 1996 09 10
SOURCE_IMAGE_ID: NAPP 9115 024
SOURCE_IMAGE_DATE: 1996 09 10
SOURCE_IMAGE_ID: NAPP 9115 086
SOURCE_IMAGE_DATE: 1996 09 10
SOURCE_DEM_DATE: 1966 00 00
AGENCY: WESTERN MAPPING CENTER (WMC)
PRODUCER: UNDEFINED
PRODUCTION_SYSTEM: GIS/MAGIC
COMPRESSION: UNDEFINED
STANDARD_VERSION: 1996 12
METADATA_DATE: 1999 06 14
DATA_FILE_SIZE: 43799880
BYTE_COUNT: 5718
