FILENAME: O4510651.NWS.1010406.tif
QUADRANGLE_NAME: SPRING GULCH
QUADRANT: NW
WEST_LONGITUDE: -106 45 0.00000
EAST_LONGITUDE: -106 41 15.00000
NORTH_LATITUDE: 45 15 0.00000
SOUTH_LATITUDE: 45 11 15.00000
PRODUCTION_DATE: 1999 6 14
RASTER_ORDER: LEFT_RIGHT/TOP_BOTTOM
BAND_ORGANIZATION: SINGLE FILE
BAND_CONTENT: BLACK&WHITE
BAND_CONTENT: UNDEFINED
BAND_CONTENT: UNDEFINED
BITS_PER_PIXEL: 8
SAMPLES_AND_LINES: 5706 7652
HORIZONTAL_DATUM: NAD83
HORIZONTAL_COORDINATE_SYSTEM: UTM
COORDINATE_ZONE: 13
HORIZONTAL_UNITS: METERS
HORIZONTAL_RESOLUTION: 1.00000
SECONDARY_HORIZONTAL_DATUM: NAD27
XY_ORIGIN: 362174.00000 5012513.00000
SECONDARY_XY_ORIGIN: 362217.95400 5012296.69700
NATION: US
NATION: "SCIENCE
STATE: MT
NW_QUAD_CORNER_XY: 362674.50300 5012212.46300
NE_QUAD_CORNER_XY: 367578.97500 5012107.94700
SE_QUAD_CORNERY_XY: 367433.78200 5005164.74000
SW_QUAD_CORNER_XY: 362523.93000 5005269.25800
SECONDARY_NW_QUAD_XY: 362670.42700 5011995.10100
SECONDARY_NE_QUAD_XY: 367575.04400 5011890.58100
SECONDARY_SE_QUAD_XY: 367429.85300 5004947.42800
SECONDARY_SW_QUAD_XY: 362519.85500 5005051.94900
RMSE_XY: 2.90000
IMAGE_SOURCE: BLACK AND WHITE FILM
SOURCE_IMAGE_ID: NAPP 9115 110
SOURCE_IMAGE_DATE: 1996 09 10
SOURCE_IMAGE_ID: NAPP 9115 086
SOURCE_IMAGE_DATE: 1996 09 10
SOURCE_IMAGE_ID: NAPP 9115 109
SOURCE_IMAGE_DATE: 1996 09 10
SOURCE_IMAGE_ID: NAPP 9115 111
SOURCE_IMAGE_DATE: 1996 09 10
SOURCE_DEM_DATE: 1966 00 00
AGENCY: WESTERN MAPPING CENTER (WMC)
PRODUCER: UNDEFINED
PRODUCTION_SYSTEM: GIS/MAGIC
COMPRESSION: UNDEFINED
STANDARD_VERSION: 1996 12
METADATA_DATE: 1999 06 14
DATA_FILE_SIZE: 43668018
BYTE_COUNT: 5706
