FILENAME: O4510651.NES.1010405.tif
QUADRANGLE_NAME: SPRING GULCH
QUADRANT: NE
WEST_LONGITUDE: -106 41 15.00000
EAST_LONGITUDE: -106 37 30.00000
NORTH_LATITUDE: 45 15 0.00000
SOUTH_LATITUDE: 45 11 15.00000
PRODUCTION_DATE: 1999 6 2
RASTER_ORDER: LEFT_RIGHT/TOP_BOTTOM
BAND_ORGANIZATION: SINGLE FILE
BAND_CONTENT: BLACK&WHITE
BAND_CONTENT: UNDEFINED
BAND_CONTENT: UNDEFINED
BITS_PER_PIXEL: 8
SAMPLES_AND_LINES: 5701 7647
HORIZONTAL_DATUM: NAD83
HORIZONTAL_COORDINATE_SYSTEM: UTM
COORDINATE_ZONE: 13
HORIZONTAL_UNITS: METERS
HORIZONTAL_RESOLUTION: 1.00000
SECONDARY_HORIZONTAL_DATUM: NAD27
XY_ORIGIN: 367084.00000 5012408.00000
SECONDARY_XY_ORIGIN: 367127.77200 5012191.51400
NATION: US
NATION: "SCIENCE
STATE: MT
NW_QUAD_CORNER_XY: 367578.97500 5012107.94700
NE_QUAD_CORNER_XY: 372483.44700 5012007.23300
SE_QUAD_CORNERY_XY: 372343.63500 5005064.02500
SW_QUAD_CORNER_XY: 367433.78200 5005164.74000
SECONDARY_NW_QUAD_XY: 367575.04400 5011890.58100
SECONDARY_NE_QUAD_XY: 372479.66300 5011789.86500
SECONDARY_SE_QUAD_XY: 372339.85200 5004846.70900
SECONDARY_SW_QUAD_XY: 367429.85300 5004947.42800
RMSE_XY: 1.10000
IMAGE_SOURCE: BLACK AND WHITE FILM
SOURCE_IMAGE_ID: NAPP 9111 035
SOURCE_IMAGE_DATE: 1996 08 11
SOURCE_IMAGE_ID: NAPP 9111 034
SOURCE_IMAGE_DATE: 1996 08 11
SOURCE_IMAGE_ID: NAPP 9111 036
SOURCE_IMAGE_DATE: 1996 08 11
SOURCE_DEM_DATE: 1966 00 00
AGENCY: WESTERN MAPPING CENTER (WMC)
PRODUCER: UNDEFINED
PRODUCTION_SYSTEM: GIS/MAGIC
COMPRESSION: UNDEFINED
STANDARD_VERSION: 1996 12
METADATA_DATE: 1999 06 14
DATA_FILE_SIZE: 43601248
BYTE_COUNT: 5701
