FILENAME: O4510652.SWS.1010420.tif
QUADRANGLE_NAME: LACEY GULCH
QUADRANT: SW
WEST_LONGITUDE: -106 37 30.00000
EAST_LONGITUDE: -106 33 45.00000
NORTH_LATITUDE: 45 11 15.00000
SOUTH_LATITUDE: 45 7 30.00000
PRODUCTION_DATE: 1999 6 2
RASTER_ORDER: LEFT_RIGHT/TOP_BOTTOM
BAND_ORGANIZATION: SINGLE FILE
BAND_CONTENT: BLACK&WHITE
BAND_CONTENT: UNDEFINED
BAND_CONTENT: UNDEFINED
BITS_PER_PIXEL: 8
SAMPLES_AND_LINES: 5700 7644
HORIZONTAL_DATUM: NAD83
HORIZONTAL_COORDINATE_SYSTEM: UTM
COORDINATE_ZONE: 13
HORIZONTAL_UNITS: METERS
HORIZONTAL_RESOLUTION: 1.00000
SECONDARY_HORIZONTAL_DATUM: NAD27
XY_ORIGIN: 371855.00000 5005365.00000
SECONDARY_XY_ORIGIN: 371898.80900 5005148.55300
NATION: US
NATION: "SCIENCE
STATE: MT
NW_QUAD_CORNER_XY: 372343.63500 5005064.02500
NE_QUAD_CORNER_XY: 377253.48900 5004967.11300
SE_QUAD_CORNERY_XY: 377119.20400 4998023.97400
SW_QUAD_CORNER_XY: 372203.97600 4998120.88800
SECONDARY_NW_QUAD_XY: 372339.85200 5004846.70900
SECONDARY_NE_QUAD_XY: 377249.85100 5004749.79400
SECONDARY_SE_QUAD_XY: 377115.56700 4997806.70900
SECONDARY_SW_QUAD_XY: 372200.19300 4997903.62500
RMSE_XY: 1.70000
IMAGE_SOURCE: BLACK AND WHITE FILM
SOURCE_IMAGE_ID: NAPP 9111 014
SOURCE_IMAGE_DATE: 1996 08 11
SOURCE_IMAGE_ID: NAPP 9111 032
SOURCE_IMAGE_DATE: 1996 08 11
SOURCE_IMAGE_ID: NAPP 9111 015
SOURCE_IMAGE_DATE: 1996 08 11
SOURCE_IMAGE_ID: NAPP 9111 013
SOURCE_IMAGE_DATE: 1996 08 11
SOURCE_DEM_DATE: 1966 00 00
AGENCY: WESTERN MAPPING CENTER (WMC)
PRODUCER: UNDEFINED
PRODUCTION_SYSTEM: GIS/MAGIC
COMPRESSION: UNDEFINED
STANDARD_VERSION: 1996 12
METADATA_DATE: 1999 06 14
DATA_FILE_SIZE: 43576500
BYTE_COUNT: 5700
