FILENAME: O4510652.NES.1010417.tif
QUADRANGLE_NAME: LACEY GULCH
QUADRANT: NE
WEST_LONGITUDE: -106 33 45.00000
EAST_LONGITUDE: -106 30 0.00000
NORTH_LATITUDE: 45 15 0.00000
SOUTH_LATITUDE: 45 11 15.00000
PRODUCTION_DATE: 1999 6 2
RASTER_ORDER: LEFT_RIGHT/TOP_BOTTOM
BAND_ORGANIZATION: SINGLE FILE
BAND_CONTENT: BLACK&WHITE
BAND_CONTENT: UNDEFINED
BAND_CONTENT: UNDEFINED
BITS_PER_PIXEL: 8
SAMPLES_AND_LINES: 5689 7640
HORIZONTAL_DATUM: NAD83
HORIZONTAL_COORDINATE_SYSTEM: UTM
COORDINATE_ZONE: 13
HORIZONTAL_UNITS: METERS
HORIZONTAL_RESOLUTION: 1.00000
SECONDARY_HORIZONTAL_DATUM: NAD27
XY_ORIGIN: 376905.00000 5012211.00000
SECONDARY_XY_ORIGIN: 376948.40900 5011994.14500
NATION: US
NATION: "SCIENCE
STATE: MT
NW_QUAD_CORNER_XY: 377387.92100 5011910.32100
NE_QUAD_CORNER_XY: 382292.39600 5011817.21200
SE_QUAD_CORNERY_XY: 382163.34400 5004874.00200
SW_QUAD_CORNER_XY: 377253.48900 5004967.11300
SECONDARY_NW_QUAD_XY: 377384.28200 5011692.95000
SECONDARY_NE_QUAD_XY: 382288.90200 5011599.83900
SECONDARY_SE_QUAD_XY: 382159.85100 5004656.68100
SECONDARY_SW_QUAD_XY: 377249.85100 5004749.79400
RMSE_XY: 1.50000
IMAGE_SOURCE: BLACK AND WHITE FILM
SOURCE_IMAGE_ID: NAPP 9110 017
SOURCE_IMAGE_DATE: 1996 08 11
SOURCE_IMAGE_ID: NAPP 9110 016
SOURCE_IMAGE_DATE: 1996 08 11
SOURCE_IMAGE_ID: NAPP 9115 178
SOURCE_IMAGE_DATE: 1996 09 10
SOURCE_IMAGE_ID: NAPP 9115 176
SOURCE_IMAGE_DATE: 1996 09 10
SOURCE_DEM_DATE: 1966 00 00
AGENCY: WESTERN MAPPING CENTER (WMC)
PRODUCER: UNDEFINED
PRODUCTION_SYSTEM: GIS/MAGIC
COMPRESSION: UNDEFINED
STANDARD_VERSION: 1996 12
METADATA_DATE: 1999 06 14
DATA_FILE_SIZE: 43469649
BYTE_COUNT: 5689
