FILENAME: O4510653.NES.1010715.tif
QUADRANGLE_NAME: STROUD CREEK
QUADRANT: NE
WEST_LONGITUDE: -106 26 15.00000
EAST_LONGITUDE: -106 22 30.00000
NORTH_LATITUDE: 45 15 0.00000
SOUTH_LATITUDE: 45 11 15.00000
PRODUCTION_DATE: 1999 5 24
RASTER_ORDER: LEFT_RIGHT/TOP_BOTTOM
BAND_ORGANIZATION: SINGLE FILE
BAND_CONTENT: BLACK&WHITE
BAND_CONTENT: UNDEFINED
BAND_CONTENT: UNDEFINED
BITS_PER_PIXEL: 8
SAMPLES_AND_LINES: 5678 7632
HORIZONTAL_DATUM: NAD83
HORIZONTAL_COORDINATE_SYSTEM: UTM
COORDINATE_ZONE: 13
HORIZONTAL_UNITS: METERS
HORIZONTAL_RESOLUTION: 1.00000
SECONDARY_HORIZONTAL_DATUM: NAD27
XY_ORIGIN: 386725.00000 5012028.00000
SECONDARY_XY_ORIGIN: 386768.07000 5011810.83700
NATION: US
NATION: "SCIENCE
STATE: MT
NW_QUAD_CORNER_XY: 387196.87200 5011727.90600
NE_QUAD_CORNER_XY: 392101.34800 5011642.40000
SE_QUAD_CORNERY_XY: 391983.05500 5004699.18800
SW_QUAD_CORNER_XY: 387073.19900 5004784.69400
SECONDARY_NW_QUAD_XY: 387193.52400 5011510.52900
SECONDARY_NE_QUAD_XY: 392098.14600 5011425.02100
SECONDARY_SE_QUAD_XY: 391979.85400 5004481.86100
SECONDARY_SW_QUAD_XY: 387069.85200 5004567.37000
RMSE_XY: 3.10000
IMAGE_SOURCE: BLACK AND WHITE FILM
SOURCE_IMAGE_ID: NAPP 9106 216
SOURCE_IMAGE_DATE: 1996 08 07
SOURCE_IMAGE_ID: NAPP 9115 176
SOURCE_IMAGE_DATE: 1996 09 10
SOURCE_DEM_DATE: 1997 01 01
AGENCY: WESTERN MAPPING CENTER (WMC)
PRODUCER: UNDEFINED
PRODUCTION_SYSTEM: GIS/MAGIC
COMPRESSION: UNDEFINED
STANDARD_VERSION: 1996 12
METADATA_DATE: 1999 06 09
DATA_FILE_SIZE: 43340174
BYTE_COUNT: 5678
