FILENAME: O4510654.NWS.1010729.tif
QUADRANGLE_NAME: HAMILTON DRAW
QUADRANT: NW
WEST_LONGITUDE: -106 22 30.00000
EAST_LONGITUDE: -106 18 45.00000
NORTH_LATITUDE: 45 15 0.00000
SOUTH_LATITUDE: 45 11 15.00000
PRODUCTION_DATE: 1999 5 24
RASTER_ORDER: LEFT_RIGHT/TOP_BOTTOM
BAND_ORGANIZATION: SINGLE FILE
BAND_CONTENT: BLACK&WHITE
BAND_CONTENT: UNDEFINED
BAND_CONTENT: UNDEFINED
BITS_PER_PIXEL: 8
SAMPLES_AND_LINES: 5672 7628
HORIZONTAL_DATUM: NAD83
HORIZONTAL_COORDINATE_SYSTEM: UTM
COORDINATE_ZONE: 13
HORIZONTAL_UNITS: METERS
HORIZONTAL_RESOLUTION: 1.00000
SECONDARY_HORIZONTAL_DATUM: NAD27
XY_ORIGIN: 391635.00000 5011943.00000
SECONDARY_XY_ORIGIN: 391677.91300 5011725.71700
NATION: US
NATION: "SCIENCE
STATE: MT
NW_QUAD_CORNER_XY: 392101.34800 5011642.40000
NE_QUAD_CORNER_XY: 397005.82600 5011560.69700
SE_QUAD_CORNERY_XY: 396892.91200 5004617.48300
SW_QUAD_CORNER_XY: 391983.05500 5004699.18800
SECONDARY_NW_QUAD_XY: 392098.14600 5011425.02100
SECONDARY_NE_QUAD_XY: 397002.77000 5011343.31500
SECONDARY_SE_QUAD_XY: 396889.85600 5004400.15400
SECONDARY_SW_QUAD_XY: 391979.85400 5004481.86100
RMSE_XY: 2.80000
IMAGE_SOURCE: BLACK AND WHITE FILM
SOURCE_IMAGE_ID: NAPP 9102 098
SOURCE_IMAGE_DATE: 1996 07 14
SOURCE_IMAGE_ID: NAPP 9102 099
SOURCE_IMAGE_DATE: 1996 07 14
SOURCE_IMAGE_ID: NAPP 9102 097
SOURCE_IMAGE_DATE: 1996 07 14
SOURCE_DEM_DATE: 1997 01 01
AGENCY: WESTERN MAPPING CENTER (WMC)
PRODUCER: UNDEFINED
PRODUCTION_SYSTEM: GIS/MAGIC
COMPRESSION: UNDEFINED
STANDARD_VERSION: 1996 12
METADATA_DATE: 1999 06 09
DATA_FILE_SIZE: 43271688
BYTE_COUNT: 5672
