FILENAME: O4510655.SWS.1010739.tif
QUADRANGLE_NAME: OTTER
QUADRANT: SW
WEST_LONGITUDE: -106 15 0.00000
EAST_LONGITUDE: -106 11 15.00000
NORTH_LATITUDE: 45 11 15.00000
SOUTH_LATITUDE: 45 7 30.00000
PRODUCTION_DATE: 1999 5 26
RASTER_ORDER: LEFT_RIGHT/TOP_BOTTOM
BAND_ORGANIZATION: SINGLE FILE
BAND_CONTENT: BLACK&WHITE
BAND_CONTENT: UNDEFINED
BAND_CONTENT: UNDEFINED
BITS_PER_PIXEL: 8
SAMPLES_AND_LINES: 5666 7620
HORIZONTAL_DATUM: NAD83
HORIZONTAL_COORDINATE_SYSTEM: UTM
COORDINATE_ZONE: 13
HORIZONTAL_UNITS: METERS
HORIZONTAL_RESOLUTION: 1.00000
SECONDARY_HORIZONTAL_DATUM: NAD27
XY_ORIGIN: 401348.00000 5004840.00000
SECONDARY_XY_ORIGIN: 401390.79100 5004622.67200
NATION: US
NATION: "SCIENCE
STATE: MT
NW_QUAD_CORNER_XY: 401802.76900 5004539.58000
NE_QUAD_CORNER_XY: 406712.62700 5004465.47800
SE_QUAD_CORNERY_XY: 406610.58100 4997522.33600
SW_QUAD_CORNER_XY: 401695.35100 4997596.43800
SECONDARY_NW_QUAD_XY: 401799.85900 5004322.24900
SECONDARY_NE_QUAD_XY: 406709.86200 5004248.14500
SECONDARY_SE_QUAD_XY: 406607.81700 4997305.05600
SECONDARY_SW_QUAD_XY: 401692.44100 4997379.16000
RMSE_XY: 2.60000
IMAGE_SOURCE: BLACK AND WHITE FILM
SOURCE_IMAGE_ID: NAPP 9090 173
SOURCE_IMAGE_DATE: 1996 07 07
SOURCE_IMAGE_ID: NAPP 9090 174
SOURCE_IMAGE_DATE: 1996 07 07
SOURCE_IMAGE_ID: NAPP 9090 172
SOURCE_IMAGE_DATE: 1996 07 07
SOURCE_DEM_DATE: 1997 01 01
AGENCY: WESTERN MAPPING CENTER (WMC)
PRODUCER: UNDEFINED
PRODUCTION_SYSTEM: GIS/MAGIC
COMPRESSION: UNDEFINED
STANDARD_VERSION: 1996 12
METADATA_DATE: 1999 06 09
DATA_FILE_SIZE: 43180586
BYTE_COUNT: 5666
