FILENAME: O4510655.SES.1010738.tif
QUADRANGLE_NAME: OTTER
QUADRANT: SE
WEST_LONGITUDE: -106 11 15.00000
EAST_LONGITUDE: -106 7 30.00000
NORTH_LATITUDE: 45 11 15.00000
SOUTH_LATITUDE: 45 7 30.00000
PRODUCTION_DATE: 1999 5 26
RASTER_ORDER: LEFT_RIGHT/TOP_BOTTOM
BAND_ORGANIZATION: SINGLE FILE
BAND_CONTENT: BLACK&WHITE
BAND_CONTENT: UNDEFINED
BAND_CONTENT: UNDEFINED
BITS_PER_PIXEL: 8
SAMPLES_AND_LINES: 5661 7617
HORIZONTAL_DATUM: NAD83
HORIZONTAL_COORDINATE_SYSTEM: UTM
COORDINATE_ZONE: 13
HORIZONTAL_UNITS: METERS
HORIZONTAL_RESOLUTION: 1.00000
SECONDARY_HORIZONTAL_DATUM: NAD27
XY_ORIGIN: 406263.00000 5004766.00000
SECONDARY_XY_ORIGIN: 406305.65200 5004548.81100
NATION: US
NATION: "SCIENCE
STATE: MT
NW_QUAD_CORNER_XY: 406712.62700 5004465.47800
NE_QUAD_CORNER_XY: 411622.48500 5004395.17800
SE_QUAD_CORNERY_XY: 411525.81200 4997452.03500
SW_QUAD_CORNER_XY: 406610.58100 4997522.33600
SECONDARY_NW_QUAD_XY: 406709.86200 5004248.14500
SECONDARY_NE_QUAD_XY: 411619.86600 5004177.84200
SECONDARY_SE_QUAD_XY: 411523.19300 4997234.75200
SECONDARY_SW_QUAD_XY: 406607.81700 4997305.05600
RMSE_XY: 4.50000
IMAGE_SOURCE: BLACK AND WHITE FILM
SOURCE_IMAGE_ID: NAPP 9090 118
SOURCE_IMAGE_DATE: 1996 07 07
SOURCE_IMAGE_ID: NAPP 9090 174
SOURCE_IMAGE_DATE: 1996 07 07
SOURCE_IMAGE_ID: NAPP 9090 117
SOURCE_IMAGE_DATE: 1996 07 07
SOURCE_IMAGE_ID: NAPP 9090 119
SOURCE_IMAGE_DATE: 1996 07 07
SOURCE_DEM_DATE: 1997 01 01
AGENCY: WESTERN MAPPING CENTER (WMC)
PRODUCER: UNDEFINED
PRODUCTION_SYSTEM: GIS/MAGIC
COMPRESSION: UNDEFINED
STANDARD_VERSION: 1996 12
METADATA_DATE: 1999 06 09
DATA_FILE_SIZE: 43125498
BYTE_COUNT: 5661
