FILENAME: O4510655.NWS.1010737.tif
QUADRANGLE_NAME: OTTER
QUADRANT: NW
WEST_LONGITUDE: -106 15 0.00000
EAST_LONGITUDE: -106 11 15.00000
NORTH_LATITUDE: 45 15 0.00000
SOUTH_LATITUDE: 45 11 15.00000
PRODUCTION_DATE: 1999 5 26
RASTER_ORDER: LEFT_RIGHT/TOP_BOTTOM
BAND_ORGANIZATION: SINGLE FILE
BAND_CONTENT: BLACK&WHITE
BAND_CONTENT: UNDEFINED
BAND_CONTENT: UNDEFINED
BITS_PER_PIXEL: 8
SAMPLES_AND_LINES: 5660 7620
HORIZONTAL_DATUM: NAD83
HORIZONTAL_COORDINATE_SYSTEM: UTM
COORDINATE_ZONE: 13
HORIZONTAL_UNITS: METERS
HORIZONTAL_RESOLUTION: 1.00000
SECONDARY_HORIZONTAL_DATUM: NAD27
XY_ORIGIN: 401456.00000 5011783.00000
SECONDARY_XY_ORIGIN: 401498.59700 5011565.45400
NATION: US
NATION: "SCIENCE
STATE: MT
NW_QUAD_CORNER_XY: 401910.30500 5011482.79500
NE_QUAD_CORNER_XY: 406814.78500 5011408.69400
SE_QUAD_CORNERY_XY: 406712.62700 5004465.47800
SW_QUAD_CORNER_XY: 401802.76900 5004539.58000
SECONDARY_NW_QUAD_XY: 401907.39400 5011265.41100
SECONDARY_NE_QUAD_XY: 406812.01900 5011191.30800
SECONDARY_SE_QUAD_XY: 406709.86200 5004248.14500
SECONDARY_SW_QUAD_XY: 401799.85900 5004322.24900
RMSE_XY: 2.20000
IMAGE_SOURCE: BLACK AND WHITE FILM
SOURCE_IMAGE_ID: NAPP 9090 171
SOURCE_IMAGE_DATE: 1996 07 07
SOURCE_IMAGE_ID: NAPP 9090 172
SOURCE_IMAGE_DATE: 1996 07 07
SOURCE_IMAGE_ID: NAPP 9090 170
SOURCE_IMAGE_DATE: 1996 07 07
SOURCE_IMAGE_ID: NAPP 9090 119
SOURCE_IMAGE_DATE: 1996 07 07
SOURCE_DEM_DATE: 1997 01 01
AGENCY: WESTERN MAPPING CENTER (WMC)
PRODUCER: UNDEFINED
PRODUCTION_SYSTEM: GIS/MAGIC
COMPRESSION: UNDEFINED
STANDARD_VERSION: 1996 12
METADATA_DATE: 1999 06 09
DATA_FILE_SIZE: 43134860
BYTE_COUNT: 5660
