FILENAME: O4510658.SWS.1010795.tif
QUADRANGLE_NAME: DECKER
QUADRANT: SW
WEST_LONGITUDE: -106 52 30.00000
EAST_LONGITUDE: -106 48 45.00000
NORTH_LATITUDE: 45 3 45.00000
SOUTH_LATITUDE: 45 0 0.00000
PRODUCTION_DATE: 1999 6 11
RASTER_ORDER: LEFT_RIGHT/TOP_BOTTOM
BAND_ORGANIZATION: SINGLE FILE
BAND_CONTENT: BLACK&WHITE
BAND_CONTENT: UNDEFINED
BAND_CONTENT: UNDEFINED
BITS_PER_PIXEL: 8
SAMPLES_AND_LINES: 5733 7660
HORIZONTAL_DATUM: NAD83
HORIZONTAL_COORDINATE_SYSTEM: UTM
COORDINATE_ZONE: 13
HORIZONTAL_UNITS: METERS
HORIZONTAL_RESOLUTION: 1.00000
SECONDARY_HORIZONTAL_DATUM: NAD27
XY_ORIGIN: 351871.00000 4991904.00000
SECONDARY_XY_ORIGIN: 351915.71400 4991688.47400
NATION: US
NATION: "SCIENCE
STATE: MT
NW_QUAD_CORNER_XY: 352382.08600 4991603.50500
NE_QUAD_CORNER_XY: 357302.68100 4991491.37900
SE_QUAD_CORNERY_XY: 357147.23900 4984548.38200
SW_QUAD_CORNER_XY: 352221.27900 4984660.50800
SECONDARY_NW_QUAD_XY: 352377.72200 4991386.31000
SECONDARY_NE_QUAD_XY: 357298.46400 4991274.18000
SECONDARY_SE_QUAD_XY: 357143.02200 4984331.23800
SECONDARY_SW_QUAD_XY: 352216.91700 4984443.36700
RMSE_XY: 2.10000
IMAGE_SOURCE: BLACK AND WHITE FILM
SOURCE_IMAGE_ID: NAPP 9115 017
SOURCE_IMAGE_DATE: 1996 09 10
SOURCE_IMAGE_ID: NAPP 9115 016
SOURCE_IMAGE_DATE: 1996 09 10
SOURCE_IMAGE_ID: NAPP 9115 018
SOURCE_IMAGE_DATE: 1996 09 10
SOURCE_DEM_DATE: 1976 09 00
AGENCY: WESTERN MAPPING CENTER (WMC)
PRODUCER: UNDEFINED
PRODUCTION_SYSTEM: GIS/MAGIC
COMPRESSION: UNDEFINED
STANDARD_VERSION: 1996 12
METADATA_DATE: 1999 06 15
DATA_FILE_SIZE: 43920513
BYTE_COUNT: 5733
