FILENAME: O4510658.NWS.1010793.tif
QUADRANGLE_NAME: DECKER
QUADRANT: NW
WEST_LONGITUDE: -106 52 30.00000
EAST_LONGITUDE: -106 48 45.00000
NORTH_LATITUDE: 45 7 30.00000
SOUTH_LATITUDE: 45 3 45.00000
PRODUCTION_DATE: 1999 6 11
RASTER_ORDER: LEFT_RIGHT/TOP_BOTTOM
BAND_ORGANIZATION: SINGLE FILE
BAND_CONTENT: BLACK&WHITE
BAND_CONTENT: UNDEFINED
BAND_CONTENT: UNDEFINED
BITS_PER_PIXEL: 8
SAMPLES_AND_LINES: 5729 7660
HORIZONTAL_DATUM: NAD83
HORIZONTAL_COORDINATE_SYSTEM: UTM
COORDINATE_ZONE: 13
HORIZONTAL_UNITS: METERS
HORIZONTAL_RESOLUTION: 1.00000
SECONDARY_HORIZONTAL_DATUM: NAD27
XY_ORIGIN: 352031.00000 4998847.00000
SECONDARY_XY_ORIGIN: 352075.56100 4998631.31300
NATION: US
NATION: "SCIENCE
STATE: MT
NW_QUAD_CORNER_XY: 352543.06900 4998546.57000
NE_QUAD_CORNER_XY: 357458.29500 4998434.44500
SE_QUAD_CORNERY_XY: 357302.68100 4991491.37900
SW_QUAD_CORNER_XY: 352382.08600 4991603.50500
SECONDARY_NW_QUAD_XY: 352538.70400 4998329.32100
SECONDARY_NE_QUAD_XY: 357454.07600 4998217.19200
SECONDARY_SE_QUAD_XY: 357298.46400 4991274.18000
SECONDARY_SW_QUAD_XY: 352377.72200 4991386.31000
RMSE_XY: 1.50000
IMAGE_SOURCE: BLACK AND WHITE FILM
SOURCE_IMAGE_ID: NAPP 9115 019
SOURCE_IMAGE_DATE: 1996 09 10
SOURCE_IMAGE_ID: NAPP 9085 184
SOURCE_IMAGE_DATE: 1996 06 13
SOURCE_IMAGE_ID: NAPP 9115 018
SOURCE_IMAGE_DATE: 1996 09 10
SOURCE_DEM_DATE: 1976 09 00
AGENCY: WESTERN MAPPING CENTER (WMC)
PRODUCER: UNDEFINED
PRODUCTION_SYSTEM: GIS/MAGIC
COMPRESSION: UNDEFINED
STANDARD_VERSION: 1996 12
METADATA_DATE: 1999 06 15
DATA_FILE_SIZE: 43889869
BYTE_COUNT: 5729
