FILENAME: O4510658.NES.1010792.tif
QUADRANGLE_NAME: DECKER
QUADRANT: NE
WEST_LONGITUDE: -106 48 45.00000
EAST_LONGITUDE: -106 45 0.00000
NORTH_LATITUDE: 45 7 30.00000
SOUTH_LATITUDE: 45 3 45.00000
PRODUCTION_DATE: 1999 6 11
RASTER_ORDER: LEFT_RIGHT/TOP_BOTTOM
BAND_ORGANIZATION: SINGLE FILE
BAND_CONTENT: BLACK&WHITE
BAND_CONTENT: UNDEFINED
BAND_CONTENT: UNDEFINED
BITS_PER_PIXEL: 8
SAMPLES_AND_LINES: 5723 7656
HORIZONTAL_DATUM: NAD83
HORIZONTAL_COORDINATE_SYSTEM: UTM
COORDINATE_ZONE: 13
HORIZONTAL_UNITS: METERS
HORIZONTAL_RESOLUTION: 1.00000
SECONDARY_HORIZONTAL_DATUM: NAD27
XY_ORIGIN: 356952.00000 4998735.00000
SECONDARY_XY_ORIGIN: 356996.47000 4998519.21200
NATION: US
NATION: "SCIENCE
STATE: MT
NW_QUAD_CORNER_XY: 357458.29500 4998434.44500
NE_QUAD_CORNER_XY: 362373.52100 4998326.12300
SE_QUAD_CORNERY_XY: 362223.27700 4991383.05700
SW_QUAD_CORNER_XY: 357302.68100 4991491.37900
SECONDARY_NW_QUAD_XY: 357454.07600 4998217.19200
SECONDARY_NE_QUAD_XY: 362369.44800 4998108.86700
SECONDARY_SE_QUAD_XY: 362219.20500 4991165.85500
SECONDARY_SW_QUAD_XY: 357298.46400 4991274.18000
RMSE_XY: 1.80000
IMAGE_SOURCE: BLACK AND WHITE FILM
SOURCE_IMAGE_ID: NAPP 9115 091
SOURCE_IMAGE_DATE: 1996 09 10
SOURCE_IMAGE_ID: NAPP 9115 018
SOURCE_IMAGE_DATE: 1996 09 10
SOURCE_IMAGE_ID: NAPP 9115 092
SOURCE_IMAGE_DATE: 1996 09 10
SOURCE_IMAGE_ID: NAPP 9115 106
SOURCE_IMAGE_DATE: 1996 09 10
SOURCE_DEM_DATE: 1976 09 00
AGENCY: WESTERN MAPPING CENTER (WMC)
PRODUCER: UNDEFINED
PRODUCTION_SYSTEM: GIS/MAGIC
COMPRESSION: UNDEFINED
STANDARD_VERSION: 1996 12
METADATA_DATE: 1999 06 15
DATA_FILE_SIZE: 43821011
BYTE_COUNT: 5723
