FILENAME: O4510659.SWS.1010803.tif
QUADRANGLE_NAME: HOLMES RANCH
QUADRANT: SW
WEST_LONGITUDE: -106 45 0.00000
EAST_LONGITUDE: -106 41 15.00000
NORTH_LATITUDE: 45 3 45.00000
SOUTH_LATITUDE: 45 0 0.00000
PRODUCTION_DATE: 1999 6 10
RASTER_ORDER: LEFT_RIGHT/TOP_BOTTOM
BAND_ORGANIZATION: SINGLE FILE
BAND_CONTENT: BLACK&WHITE
BAND_CONTENT: UNDEFINED
BAND_CONTENT: UNDEFINED
BITS_PER_PIXEL: 8
SAMPLES_AND_LINES: 5722 7652
HORIZONTAL_DATUM: NAD83
HORIZONTAL_COORDINATE_SYSTEM: UTM
COORDINATE_ZONE: 13
HORIZONTAL_UNITS: METERS
HORIZONTAL_RESOLUTION: 1.00000
SECONDARY_HORIZONTAL_DATUM: NAD27
XY_ORIGIN: 361723.00000 4991684.00000
SECONDARY_XY_ORIGIN: 361767.62200 4991468.33900
NATION: US
NATION: "SCIENCE
STATE: MT
NW_QUAD_CORNER_XY: 362223.27700 4991383.05700
NE_QUAD_CORNER_XY: 367143.87300 4991278.53700
SE_QUAD_CORNERY_XY: 366999.15800 4984335.54000
SW_QUAD_CORNER_XY: 362073.19800 4984440.05900
SECONDARY_NW_QUAD_XY: 362219.20500 4991165.85500
SECONDARY_NE_QUAD_XY: 367139.94700 4991061.33200
SECONDARY_SE_QUAD_XY: 366995.23200 4984118.39000
SECONDARY_SW_QUAD_XY: 362069.12700 4984222.91300
RMSE_XY: 3.40000
IMAGE_SOURCE: BLACK AND WHITE FILM
SOURCE_IMAGE_ID: NAPP 9115 104
SOURCE_IMAGE_DATE: 1996 09 10
SOURCE_IMAGE_ID: NAPP 9115 093
SOURCE_IMAGE_DATE: 1996 09 10
SOURCE_IMAGE_ID: NAPP 9115 103
SOURCE_IMAGE_DATE: 1996 09 10
SOURCE_IMAGE_ID: NAPP 9115 105
SOURCE_IMAGE_DATE: 1996 09 10
SOURCE_DEM_DATE: 1993 04 00
AGENCY: WESTERN MAPPING CENTER (WMC)
PRODUCER: UNDEFINED
PRODUCTION_SYSTEM: GIS/MAGIC
COMPRESSION: UNDEFINED
STANDARD_VERSION: 1996 12
METADATA_DATE: 1999 06 15
DATA_FILE_SIZE: 43790466
BYTE_COUNT: 5722
