FILENAME: O4510659.SES.1010802.tif
QUADRANGLE_NAME: HOLMES RANCH
QUADRANT: SE
WEST_LONGITUDE: -106 41 15.00000
EAST_LONGITUDE: -106 37 30.00000
NORTH_LATITUDE: 45 3 45.00000
SOUTH_LATITUDE: 45 0 0.00000
PRODUCTION_DATE: 1999 6 10
RASTER_ORDER: LEFT_RIGHT/TOP_BOTTOM
BAND_ORGANIZATION: SINGLE FILE
BAND_CONTENT: BLACK&WHITE
BAND_CONTENT: UNDEFINED
BAND_CONTENT: UNDEFINED
BITS_PER_PIXEL: 8
SAMPLES_AND_LINES: 5717 7648
HORIZONTAL_DATUM: NAD83
HORIZONTAL_COORDINATE_SYSTEM: UTM
COORDINATE_ZONE: 13
HORIZONTAL_UNITS: METERS
HORIZONTAL_RESOLUTION: 1.00000
SECONDARY_HORIZONTAL_DATUM: NAD27
XY_ORIGIN: 366649.00000 4991579.00000
SECONDARY_XY_ORIGIN: 366693.43400 4991363.17200
NATION: US
NATION: "SCIENCE
STATE: MT
NW_QUAD_CORNER_XY: 367143.87300 4991278.53700
NE_QUAD_CORNER_XY: 372064.47000 4991177.82100
SE_QUAD_CORNERY_XY: 371925.11700 4984234.82400
SW_QUAD_CORNER_XY: 366999.15800 4984335.54000
SECONDARY_NW_QUAD_XY: 367139.94700 4991061.33200
SECONDARY_NE_QUAD_XY: 372060.68800 4990960.61200
SECONDARY_SE_QUAD_XY: 371921.33600 4984017.67100
SECONDARY_SW_QUAD_XY: 366995.23200 4984118.39000
RMSE_XY: 3.90000
IMAGE_SOURCE: BLACK AND WHITE FILM
SOURCE_IMAGE_ID: NAPP 9111 029
SOURCE_IMAGE_DATE: 1996 08 11
SOURCE_IMAGE_ID: NAPP 9115 103
SOURCE_IMAGE_DATE: 1996 09 10
SOURCE_IMAGE_ID: NAPP 9115 105
SOURCE_IMAGE_DATE: 1996 09 10
SOURCE_IMAGE_ID: NAPP 9111 018
SOURCE_IMAGE_DATE: 1996 08 11
SOURCE_DEM_DATE: 1993 04 00
AGENCY: WESTERN MAPPING CENTER (WMC)
PRODUCER: UNDEFINED
PRODUCTION_SYSTEM: GIS/MAGIC
COMPRESSION: UNDEFINED
STANDARD_VERSION: 1996 12
METADATA_DATE: 1999 06 15
DATA_FILE_SIZE: 43729333
BYTE_COUNT: 5717
