FILENAME: O4510660.SWS.1010807.tif
QUADRANGLE_NAME: PINE BUTTE SCHOOL
QUADRANT: SW
WEST_LONGITUDE: -106 37 30.00000
EAST_LONGITUDE: -106 33 45.00000
NORTH_LATITUDE: 45 3 45.00000
SOUTH_LATITUDE: 45 0 0.00000
PRODUCTION_DATE: 1999 6 10
RASTER_ORDER: LEFT_RIGHT/TOP_BOTTOM
BAND_ORGANIZATION: SINGLE FILE
BAND_CONTENT: BLACK&WHITE
BAND_CONTENT: UNDEFINED
BAND_CONTENT: UNDEFINED
BITS_PER_PIXEL: 8
SAMPLES_AND_LINES: 5712 7644
HORIZONTAL_DATUM: NAD83
HORIZONTAL_COORDINATE_SYSTEM: UTM
COORDINATE_ZONE: 13
HORIZONTAL_UNITS: METERS
HORIZONTAL_RESOLUTION: 1.00000
SECONDARY_HORIZONTAL_DATUM: NAD27
XY_ORIGIN: 371575.00000 4991478.00000
SECONDARY_XY_ORIGIN: 371619.24700 4991262.00300
NATION: US
NATION: "SCIENCE
STATE: MT
NW_QUAD_CORNER_XY: 372064.47000 4991177.82100
NE_QUAD_CORNER_XY: 376985.06600 4991080.90700
SE_QUAD_CORNERY_XY: 376851.07500 4984137.91000
SW_QUAD_CORNER_XY: 371925.11700 4984234.82400
SECONDARY_NW_QUAD_XY: 372060.68800 4990960.61200
SECONDARY_NE_QUAD_XY: 376981.43000 4990863.69600
SECONDARY_SE_QUAD_XY: 376847.44100 4983920.75400
SECONDARY_SW_QUAD_XY: 371921.33600 4984017.67100
RMSE_XY: 2.60000
IMAGE_SOURCE: BLACK AND WHITE FILM
SOURCE_IMAGE_ID: NAPP 9111 018
SOURCE_IMAGE_DATE: 1996 08 11
SOURCE_IMAGE_ID: NAPP 9111 019
SOURCE_IMAGE_DATE: 1996 08 11
SOURCE_IMAGE_ID: NAPP 9111 016
SOURCE_IMAGE_DATE: 1996 08 11
SOURCE_IMAGE_ID: NAPP 9110 011
SOURCE_IMAGE_DATE: 1996 08 11
SOURCE_DEM_DATE: 1993 04 00
AGENCY: WESTERN MAPPING CENTER (WMC)
PRODUCER: UNDEFINED
PRODUCTION_SYSTEM: GIS/MAGIC
COMPRESSION: UNDEFINED
STANDARD_VERSION: 1996 12
METADATA_DATE: 1999 06 15
DATA_FILE_SIZE: 43668240
BYTE_COUNT: 5712
