FILENAME: O4510660.NWS.1010805.tif
QUADRANGLE_NAME: PINE BUTTE SCHOOL
QUADRANT: NW
WEST_LONGITUDE: -106 37 30.00000
EAST_LONGITUDE: -106 33 45.00000
NORTH_LATITUDE: 45 7 30.00000
SOUTH_LATITUDE: 45 3 45.00000
PRODUCTION_DATE: 1999 6 10
RASTER_ORDER: LEFT_RIGHT/TOP_BOTTOM
BAND_ORGANIZATION: SINGLE FILE
BAND_CONTENT: BLACK&WHITE
BAND_CONTENT: UNDEFINED
BAND_CONTENT: UNDEFINED
BITS_PER_PIXEL: 8
SAMPLES_AND_LINES: 5706 7644
HORIZONTAL_DATUM: NAD83
HORIZONTAL_COORDINATE_SYSTEM: UTM
COORDINATE_ZONE: 13
HORIZONTAL_UNITS: METERS
HORIZONTAL_RESOLUTION: 1.00000
SECONDARY_HORIZONTAL_DATUM: NAD27
XY_ORIGIN: 371715.00000 4998421.00000
SECONDARY_XY_ORIGIN: 371759.02800 4998204.77800
NATION: US
NATION: "SCIENCE
STATE: MT
NW_QUAD_CORNER_XY: 372203.97600 4998120.88800
NE_QUAD_CORNER_XY: 377119.20400 4998023.97400
SE_QUAD_CORNERY_XY: 376985.06600 4991080.90700
SW_QUAD_CORNER_XY: 372064.47000 4991177.82100
SECONDARY_NW_QUAD_XY: 372200.19300 4997903.62500
SECONDARY_NE_QUAD_XY: 377115.56700 4997806.70900
SECONDARY_SE_QUAD_XY: 376981.43000 4990863.69600
SECONDARY_SW_QUAD_XY: 372060.68800 4990960.61200
RMSE_XY: 2.40000
IMAGE_SOURCE: BLACK AND WHITE FILM
SOURCE_IMAGE_ID: NAPP 9111 016
SOURCE_IMAGE_DATE: 1996 08 11
SOURCE_IMAGE_ID: NAPP 9111 015
SOURCE_IMAGE_DATE: 1996 08 11
SOURCE_DEM_DATE: 1993 04 00
AGENCY: WESTERN MAPPING CENTER (WMC)
PRODUCER: UNDEFINED
PRODUCTION_SYSTEM: GIS/MAGIC
COMPRESSION: UNDEFINED
STANDARD_VERSION: 1996 12
METADATA_DATE: 1999 06 15
DATA_FILE_SIZE: 43622370
BYTE_COUNT: 5706
