FILENAME: O4510661.SWS.1010819.tif
QUADRANGLE_NAME: FORKS RANCH
QUADRANT: SW
WEST_LONGITUDE: -106 30 0.00000
EAST_LONGITUDE: -106 26 15.00000
NORTH_LATITUDE: 45 3 45.00000
SOUTH_LATITUDE: 45 0 0.00000
PRODUCTION_DATE: 1999 6 10
RASTER_ORDER: LEFT_RIGHT/TOP_BOTTOM
BAND_ORGANIZATION: SINGLE FILE
BAND_CONTENT: BLACK&WHITE
BAND_CONTENT: UNDEFINED
BAND_CONTENT: UNDEFINED
BITS_PER_PIXEL: 8
SAMPLES_AND_LINES: 5700 7636
HORIZONTAL_DATUM: NAD83
HORIZONTAL_COORDINATE_SYSTEM: UTM
COORDINATE_ZONE: 13
HORIZONTAL_UNITS: METERS
HORIZONTAL_RESOLUTION: 1.00000
SECONDARY_HORIZONTAL_DATUM: NAD27
XY_ORIGIN: 381428.00000 4991288.00000
SECONDARY_XY_ORIGIN: 381471.87400 4991071.66600
NATION: US
NATION: "SCIENCE
STATE: MT
NW_QUAD_CORNER_XY: 381905.66300 4990987.79500
NE_QUAD_CORNER_XY: 386826.25900 4990898.48600
SE_QUAD_CORNERY_XY: 386702.99300 4983955.48900
SW_QUAD_CORNER_XY: 381777.03400 4984044.79800
SECONDARY_NW_QUAD_XY: 381902.17200 4990770.58100
SECONDARY_NE_QUAD_XY: 386822.91400 4990681.26900
SECONDARY_SE_QUAD_XY: 386699.64900 4983738.32800
SECONDARY_SW_QUAD_XY: 381773.54500 4983827.64000
RMSE_XY: 1.40000
IMAGE_SOURCE: BLACK AND WHITE FILM
SOURCE_IMAGE_ID: NAPP 9115 183
SOURCE_IMAGE_DATE: 1996 09 10
SOURCE_IMAGE_ID: NAPP 9106 210
SOURCE_IMAGE_DATE: 1996 08 07
SOURCE_DEM_DATE: 1970 00 00
AGENCY: WESTERN MAPPING CENTER (WMC)
PRODUCER: UNDEFINED
PRODUCTION_SYSTEM: GIS/MAGIC
COMPRESSION: UNDEFINED
STANDARD_VERSION: 1996 12
METADATA_DATE: 1999 06 15
DATA_FILE_SIZE: 43530900
BYTE_COUNT: 5700
