FILENAME: O4510661.SES.1010818.tif
QUADRANGLE_NAME: FORKS RANCH
QUADRANT: SE
WEST_LONGITUDE: -106 26 15.00000
EAST_LONGITUDE: -106 22 30.00000
NORTH_LATITUDE: 45 3 45.00000
SOUTH_LATITUDE: 45 0 0.00000
PRODUCTION_DATE: 1999 6 10
RASTER_ORDER: LEFT_RIGHT/TOP_BOTTOM
BAND_ORGANIZATION: SINGLE FILE
BAND_CONTENT: BLACK&WHITE
BAND_CONTENT: UNDEFINED
BAND_CONTENT: UNDEFINED
BITS_PER_PIXEL: 8
SAMPLES_AND_LINES: 5694 7632
HORIZONTAL_DATUM: NAD83
HORIZONTAL_COORDINATE_SYSTEM: UTM
COORDINATE_ZONE: 13
HORIZONTAL_UNITS: METERS
HORIZONTAL_RESOLUTION: 1.00000
SECONDARY_HORIZONTAL_DATUM: NAD27
XY_ORIGIN: 386354.00000 4991199.00000
SECONDARY_XY_ORIGIN: 386397.70200 4990982.53200
NATION: US
NATION: "SCIENCE
STATE: MT
NW_QUAD_CORNER_XY: 386826.25900 4990898.48600
NE_QUAD_CORNER_XY: 391746.85600 4990812.97800
SE_QUAD_CORNERY_XY: 391628.95100 4983869.98200
SW_QUAD_CORNER_XY: 386702.99300 4983955.48900
SECONDARY_NW_QUAD_XY: 386822.91400 4990681.26900
SECONDARY_NE_QUAD_XY: 391743.65600 4990595.76000
SECONDARY_SE_QUAD_XY: 391625.75200 4983652.81800
SECONDARY_SW_QUAD_XY: 386699.64900 4983738.32800
RMSE_XY: 1.50000
IMAGE_SOURCE: BLACK AND WHITE FILM
SOURCE_IMAGE_ID: NAPP 9106 210
SOURCE_IMAGE_DATE: 1996 08 07
SOURCE_DEM_DATE: 1970 00 00
AGENCY: WESTERN MAPPING CENTER (WMC)
PRODUCER: UNDEFINED
PRODUCTION_SYSTEM: GIS/MAGIC
COMPRESSION: UNDEFINED
STANDARD_VERSION: 1996 12
METADATA_DATE: 1999 06 15
DATA_FILE_SIZE: 43462302
BYTE_COUNT: 5694
