FILENAME: O4510661.NWS.1010817.tif
QUADRANGLE_NAME: FORKS RANCH
QUADRANT: NW
WEST_LONGITUDE: -106 30 0.00000
EAST_LONGITUDE: -106 26 15.00000
NORTH_LATITUDE: 45 7 30.00000
SOUTH_LATITUDE: 45 3 45.00000
PRODUCTION_DATE: 1999 6 15
RASTER_ORDER: LEFT_RIGHT/TOP_BOTTOM
BAND_ORGANIZATION: SINGLE FILE
BAND_CONTENT: BLACK&WHITE
BAND_CONTENT: UNDEFINED
BAND_CONTENT: UNDEFINED
BITS_PER_PIXEL: 8
SAMPLES_AND_LINES: 5694 7636
HORIZONTAL_DATUM: NAD83
HORIZONTAL_COORDINATE_SYSTEM: UTM
COORDINATE_ZONE: 13
HORIZONTAL_UNITS: METERS
HORIZONTAL_RESOLUTION: 1.00000
SECONDARY_HORIZONTAL_DATUM: NAD27
XY_ORIGIN: 381557.00000 4998231.00000
SECONDARY_XY_ORIGIN: 381600.65800 4998014.42900
NATION: US
NATION: "SCIENCE
STATE: MT
NW_QUAD_CORNER_XY: 382034.43200 4997930.86300
NE_QUAD_CORNER_XY: 386949.66100 4997841.55400
SE_QUAD_CORNERY_XY: 386826.25900 4990898.48600
SW_QUAD_CORNER_XY: 381905.66300 4990987.79500
SECONDARY_NW_QUAD_XY: 382030.94100 4997713.59500
SECONDARY_NE_QUAD_XY: 386946.31500 4997624.28400
SECONDARY_SE_QUAD_XY: 386822.91400 4990681.26900
SECONDARY_SW_QUAD_XY: 381902.17200 4990770.58100
RMSE_XY: 1.20000
IMAGE_SOURCE: BLACK AND WHITE FILM
SOURCE_IMAGE_ID: NAPP 9115 181
SOURCE_IMAGE_DATE: 1996 09 10
SOURCE_IMAGE_ID: NAPP 9110 012
SOURCE_IMAGE_DATE: 1996 08 11
SOURCE_IMAGE_ID: NAPP 9115 183
SOURCE_IMAGE_DATE: 1996 09 10
SOURCE_IMAGE_ID: NAPP 9115 180
SOURCE_IMAGE_DATE: 1996 09 10
SOURCE_DEM_DATE: 1970 00 00
AGENCY: WESTERN MAPPING CENTER (WMC)
PRODUCER: UNDEFINED
PRODUCTION_SYSTEM: GIS/MAGIC
COMPRESSION: UNDEFINED
STANDARD_VERSION: 1996 12
METADATA_DATE: 1999 06 15
DATA_FILE_SIZE: 43485078
BYTE_COUNT: 5694
