FILENAME: O4510661.NES.1010816.tif
QUADRANGLE_NAME: FORKS RANCH
QUADRANT: NE
WEST_LONGITUDE: -106 26 15.00000
EAST_LONGITUDE: -106 22 30.00000
NORTH_LATITUDE: 45 7 30.00000
SOUTH_LATITUDE: 45 3 45.00000
PRODUCTION_DATE: 1999 6 10
RASTER_ORDER: LEFT_RIGHT/TOP_BOTTOM
BAND_ORGANIZATION: SINGLE FILE
BAND_CONTENT: BLACK&WHITE
BAND_CONTENT: UNDEFINED
BAND_CONTENT: UNDEFINED
BITS_PER_PIXEL: 8
SAMPLES_AND_LINES: 5688 7632
HORIZONTAL_DATUM: NAD83
HORIZONTAL_COORDINATE_SYSTEM: UTM
COORDINATE_ZONE: 13
HORIZONTAL_UNITS: METERS
HORIZONTAL_RESOLUTION: 1.00000
SECONDARY_HORIZONTAL_DATUM: NAD27
XY_ORIGIN: 386478.00000 4998142.00000
SECONDARY_XY_ORIGIN: 386521.49100 4997925.30000
NATION: US
NATION: "SCIENCE
STATE: MT
NW_QUAD_CORNER_XY: 386949.66100 4997841.55400
NE_QUAD_CORNER_XY: 391864.89100 4997756.04700
SE_QUAD_CORNERY_XY: 391746.85600 4990812.97800
SW_QUAD_CORNER_XY: 386826.25900 4990898.48600
SECONDARY_NW_QUAD_XY: 386946.31500 4997624.28400
SECONDARY_NE_QUAD_XY: 391861.69000 4997538.77400
SECONDARY_SE_QUAD_XY: 391743.65600 4990595.76000
SECONDARY_SW_QUAD_XY: 386822.91400 4990681.26900
RMSE_XY: 1.50000
IMAGE_SOURCE: BLACK AND WHITE FILM
SOURCE_IMAGE_ID: NAPP 9106 212
SOURCE_IMAGE_DATE: 1996 08 07
SOURCE_IMAGE_ID: NAPP 9106 210
SOURCE_IMAGE_DATE: 1996 08 07
SOURCE_DEM_DATE: 1970 00 00
AGENCY: WESTERN MAPPING CENTER (WMC)
PRODUCER: UNDEFINED
PRODUCTION_SYSTEM: GIS/MAGIC
COMPRESSION: UNDEFINED
STANDARD_VERSION: 1996 12
METADATA_DATE: 1999 06 15
DATA_FILE_SIZE: 43416504
BYTE_COUNT: 5688
