FILENAME: O4510662.SWS.1010827.tif
QUADRANGLE_NAME: QUIETUS
QUADRANT: SW
WEST_LONGITUDE: -106 22 30.00000
EAST_LONGITUDE: -106 18 45.00000
NORTH_LATITUDE: 45 3 45.00000
SOUTH_LATITUDE: 45 0 0.00000
PRODUCTION_DATE: 1999 6 8
RASTER_ORDER: LEFT_RIGHT/TOP_BOTTOM
BAND_ORGANIZATION: SINGLE FILE
BAND_CONTENT: BLACK&WHITE
BAND_CONTENT: UNDEFINED
BAND_CONTENT: UNDEFINED
BITS_PER_PIXEL: 8
SAMPLES_AND_LINES: 5688 7628
HORIZONTAL_DATUM: NAD83
HORIZONTAL_COORDINATE_SYSTEM: UTM
COORDINATE_ZONE: 13
HORIZONTAL_UNITS: METERS
HORIZONTAL_RESOLUTION: 1.00000
SECONDARY_HORIZONTAL_DATUM: NAD27
XY_ORIGIN: 391281.00000 4991113.00000
SECONDARY_XY_ORIGIN: 391324.53000 4990896.39800
NATION: US
NATION: "SCIENCE
STATE: MT
NW_QUAD_CORNER_XY: 391746.85600 4990812.97800
NE_QUAD_CORNER_XY: 396667.45300 4990731.27300
SE_QUAD_CORNERY_XY: 396554.90900 4983788.27600
SW_QUAD_CORNER_XY: 391628.95100 4983869.98200
SECONDARY_NW_QUAD_XY: 391743.65600 4990595.76000
SECONDARY_NE_QUAD_XY: 396664.39900 4990514.05100
SECONDARY_SE_QUAD_XY: 396551.85600 4983571.11000
SECONDARY_SW_QUAD_XY: 391625.75200 4983652.81800
RMSE_XY: 1.60000
IMAGE_SOURCE: BLACK AND WHITE FILM
SOURCE_IMAGE_ID: NAPP 9097 097
SOURCE_IMAGE_DATE: 1996 07 12
SOURCE_IMAGE_ID: NAPP 9097 095
SOURCE_IMAGE_DATE: 1996 07 12
SOURCE_IMAGE_ID: NAPP 9102 105
SOURCE_IMAGE_DATE: 1996 07 14
SOURCE_DEM_DATE: 1970 00 00
AGENCY: WESTERN MAPPING CENTER (WMC)
PRODUCER: UNDEFINED
PRODUCTION_SYSTEM: GIS/MAGIC
COMPRESSION: UNDEFINED
STANDARD_VERSION: 1996 12
METADATA_DATE: 1999 06 15
DATA_FILE_SIZE: 43393752
BYTE_COUNT: 5688
