FILENAME: O4510662.SES.1010826.tif
QUADRANGLE_NAME: QUIETUS
QUADRANT: SE
WEST_LONGITUDE: -106 18 45.00000
EAST_LONGITUDE: -106 15 0.00000
NORTH_LATITUDE: 45 3 45.00000
SOUTH_LATITUDE: 45 0 0.00000
PRODUCTION_DATE: 1999 6 8
RASTER_ORDER: LEFT_RIGHT/TOP_BOTTOM
BAND_ORGANIZATION: SINGLE FILE
BAND_CONTENT: BLACK&WHITE
BAND_CONTENT: UNDEFINED
BAND_CONTENT: UNDEFINED
BITS_PER_PIXEL: 8
SAMPLES_AND_LINES: 5683 7625
HORIZONTAL_DATUM: NAD83
HORIZONTAL_COORDINATE_SYSTEM: UTM
COORDINATE_ZONE: 13
HORIZONTAL_UNITS: METERS
HORIZONTAL_RESOLUTION: 1.00000
SECONDARY_HORIZONTAL_DATUM: NAD27
XY_ORIGIN: 396207.00000 4991032.00000
SECONDARY_XY_ORIGIN: 396250.35900 4990815.26400
NATION: US
NATION: "SCIENCE
STATE: MT
NW_QUAD_CORNER_XY: 396667.45300 4990731.27300
NE_QUAD_CORNER_XY: 401588.05000 4990653.36900
SE_QUAD_CORNERY_XY: 401480.86700 4983710.37200
SW_QUAD_CORNER_XY: 396554.90900 4983788.27600
SECONDARY_NW_QUAD_XY: 396664.39900 4990514.05100
SECONDARY_NE_QUAD_XY: 401585.14100 4990436.14500
SECONDARY_SE_QUAD_XY: 401477.95900 4983493.20400
SECONDARY_SW_QUAD_XY: 396551.85600 4983571.11000
RMSE_XY: 1.40000
IMAGE_SOURCE: BLACK AND WHITE FILM
SOURCE_IMAGE_ID: NAPP 9102 105
SOURCE_IMAGE_DATE: 1996 07 14
SOURCE_IMAGE_ID: NAPP 9102 106
SOURCE_IMAGE_DATE: 1996 07 14
SOURCE_IMAGE_ID: NAPP 9102 103
SOURCE_IMAGE_DATE: 1996 07 14
SOURCE_DEM_DATE: 1970 00 00
AGENCY: WESTERN MAPPING CENTER (WMC)
PRODUCER: UNDEFINED
PRODUCTION_SYSTEM: GIS/MAGIC
COMPRESSION: UNDEFINED
STANDARD_VERSION: 1996 12
METADATA_DATE: 1999 06 15
DATA_FILE_SIZE: 43338558
BYTE_COUNT: 5683
