FILENAME: O4510662.NWS.1010825.tif
QUADRANGLE_NAME: QUIETUS
QUADRANT: NW
WEST_LONGITUDE: -106 22 30.00000
EAST_LONGITUDE: -106 18 45.00000
NORTH_LATITUDE: 45 7 30.00000
SOUTH_LATITUDE: 45 3 45.00000
PRODUCTION_DATE: 1999 6 8
RASTER_ORDER: LEFT_RIGHT/TOP_BOTTOM
BAND_ORGANIZATION: SINGLE FILE
BAND_CONTENT: BLACK&WHITE
BAND_CONTENT: UNDEFINED
BAND_CONTENT: UNDEFINED
BITS_PER_PIXEL: 8
SAMPLES_AND_LINES: 5683 7629
HORIZONTAL_DATUM: NAD83
HORIZONTAL_COORDINATE_SYSTEM: UTM
COORDINATE_ZONE: 13
HORIZONTAL_UNITS: METERS
HORIZONTAL_RESOLUTION: 1.00000
SECONDARY_HORIZONTAL_DATUM: NAD27
XY_ORIGIN: 391399.00000 4998057.00000
SECONDARY_XY_ORIGIN: 391442.32400 4997840.17000
NATION: US
NATION: "SCIENCE
STATE: MT
NW_QUAD_CORNER_XY: 391864.89100 4997756.04700
NE_QUAD_CORNER_XY: 396780.12000 4997674.34200
SE_QUAD_CORNERY_XY: 396667.45300 4990731.27300
SW_QUAD_CORNER_XY: 391746.85600 4990812.97800
SECONDARY_NW_QUAD_XY: 391861.69000 4997538.77400
SECONDARY_NE_QUAD_XY: 396777.06500 4997457.06600
SECONDARY_SE_QUAD_XY: 396664.39900 4990514.05100
SECONDARY_SW_QUAD_XY: 391743.65600 4990595.76000
RMSE_XY: 1.10000
IMAGE_SOURCE: BLACK AND WHITE FILM
SOURCE_IMAGE_ID: NAPP 9097 095
SOURCE_IMAGE_DATE: 1996 07 12
SOURCE_IMAGE_ID: NAPP 9106 212
SOURCE_IMAGE_DATE: 1996 08 07
SOURCE_DEM_DATE: 1970 00 00
AGENCY: WESTERN MAPPING CENTER (WMC)
PRODUCER: UNDEFINED
PRODUCTION_SYSTEM: GIS/MAGIC
COMPRESSION: UNDEFINED
STANDARD_VERSION: 1996 12
METADATA_DATE: 1999 06 15
DATA_FILE_SIZE: 43361290
BYTE_COUNT: 5683
