FILENAME: O4510662.NES.1010824.tif
QUADRANGLE_NAME: QUIETUS
QUADRANT: NE
WEST_LONGITUDE: -106 18 45.00000
EAST_LONGITUDE: -106 15 0.00000
NORTH_LATITUDE: 45 7 30.00000
SOUTH_LATITUDE: 45 3 45.00000
PRODUCTION_DATE: 1999 6 8
RASTER_ORDER: LEFT_RIGHT/TOP_BOTTOM
BAND_ORGANIZATION: SINGLE FILE
BAND_CONTENT: BLACK&WHITE
BAND_CONTENT: UNDEFINED
BAND_CONTENT: UNDEFINED
BITS_PER_PIXEL: 8
SAMPLES_AND_LINES: 5677 7624
HORIZONTAL_DATUM: NAD83
HORIZONTAL_COORDINATE_SYSTEM: UTM
COORDINATE_ZONE: 13
HORIZONTAL_UNITS: METERS
HORIZONTAL_RESOLUTION: 1.00000
SECONDARY_HORIZONTAL_DATUM: NAD27
XY_ORIGIN: 396320.00000 4997975.00000
SECONDARY_XY_ORIGIN: 396363.15800 4997758.04000
NATION: US
NATION: "SCIENCE
STATE: MT
NW_QUAD_CORNER_XY: 396780.12000 4997674.34200
NE_QUAD_CORNER_XY: 401695.35100 4997596.43800
SE_QUAD_CORNERY_XY: 401588.05000 4990653.36900
SW_QUAD_CORNER_XY: 396667.45300 4990731.27300
SECONDARY_NW_QUAD_XY: 396777.06500 4997457.06600
SECONDARY_NE_QUAD_XY: 401692.44100 4997379.16000
SECONDARY_SE_QUAD_XY: 401585.14100 4990436.14500
SECONDARY_SW_QUAD_XY: 396664.39900 4990514.05100
RMSE_XY: 1.60000
IMAGE_SOURCE: BLACK AND WHITE FILM
SOURCE_IMAGE_ID: NAPP 9102 103
SOURCE_IMAGE_DATE: 1996 07 14
SOURCE_IMAGE_ID: NAPP 9097 095
SOURCE_IMAGE_DATE: 1996 07 12
SOURCE_IMAGE_ID: NAPP 9090 175
SOURCE_IMAGE_DATE: 1996 07 07
SOURCE_DEM_DATE: 1970 00 00
AGENCY: WESTERN MAPPING CENTER (WMC)
PRODUCER: UNDEFINED
PRODUCTION_SYSTEM: GIS/MAGIC
COMPRESSION: UNDEFINED
STANDARD_VERSION: 1996 12
METADATA_DATE: 1999 06 15
DATA_FILE_SIZE: 43287125
BYTE_COUNT: 5677
