FILENAME: O4510663.SES.1010834.tif
QUADRANGLE_NAME: BEAR CREEK SCHOOL
QUADRANT: SE
WEST_LONGITUDE: -106 11 15.00000
EAST_LONGITUDE: -106 7 30.00000
NORTH_LATITUDE: 45 3 45.00000
SOUTH_LATITUDE: 45 0 0.00000
PRODUCTION_DATE: 1999 6 8
RASTER_ORDER: LEFT_RIGHT/TOP_BOTTOM
BAND_ORGANIZATION: SINGLE FILE
BAND_CONTENT: BLACK&WHITE
BAND_CONTENT: UNDEFINED
BAND_CONTENT: UNDEFINED
BITS_PER_PIXEL: 8
SAMPLES_AND_LINES: 5672 7617
HORIZONTAL_DATUM: NAD83
HORIZONTAL_COORDINATE_SYSTEM: UTM
COORDINATE_ZONE: 13
HORIZONTAL_UNITS: METERS
HORIZONTAL_RESOLUTION: 1.00000
SECONDARY_HORIZONTAL_DATUM: NAD27
XY_ORIGIN: 406059.00000 4990880.00000
SECONDARY_XY_ORIGIN: 406102.04900 4990663.22200
NATION: US
NATION: "SCIENCE
STATE: MT
NW_QUAD_CORNER_XY: 406508.64700 4990579.26600
NE_QUAD_CORNER_XY: 411429.24400 4990508.96500
SE_QUAD_CORNERY_XY: 411332.78200 4983565.96800
SW_QUAD_CORNER_XY: 406406.82500 4983636.26900
SECONDARY_NW_QUAD_XY: 406505.88400 4990362.04000
SECONDARY_NE_QUAD_XY: 411426.62600 4990291.73700
SECONDARY_SE_QUAD_XY: 411330.16500 4983348.79500
SECONDARY_SW_QUAD_XY: 406404.06200 4983419.09900
RMSE_XY: 1.50000
IMAGE_SOURCE: BLACK AND WHITE FILM
SOURCE_IMAGE_ID: NAPP 9090 114
SOURCE_IMAGE_DATE: 1996 07 07
SOURCE_IMAGE_ID: NAPP 9090 115
SOURCE_IMAGE_DATE: 1996 07 07
SOURCE_DEM_DATE: 1992 03 00
AGENCY: WESTERN MAPPING CENTER (WMC)
PRODUCER: UNDEFINED
PRODUCTION_SYSTEM: GIS/MAGIC
COMPRESSION: UNDEFINED
STANDARD_VERSION: 1996 12
METADATA_DATE: 1999 06 15
DATA_FILE_SIZE: 43209296
BYTE_COUNT: 5672
