FILENAME: O4510663.NWS.1010833.tif
QUADRANGLE_NAME: BEAR CREEK SCHOOL
QUADRANT: NW
WEST_LONGITUDE: -106 15 0.00000
EAST_LONGITUDE: -106 11 15.00000
NORTH_LATITUDE: 45 7 30.00000
SOUTH_LATITUDE: 45 3 45.00000
PRODUCTION_DATE: 1999 6 8
RASTER_ORDER: LEFT_RIGHT/TOP_BOTTOM
BAND_ORGANIZATION: SINGLE FILE
BAND_CONTENT: BLACK&WHITE
BAND_CONTENT: UNDEFINED
BAND_CONTENT: UNDEFINED
BITS_PER_PIXEL: 8
SAMPLES_AND_LINES: 5672 7621
HORIZONTAL_DATUM: NAD83
HORIZONTAL_COORDINATE_SYSTEM: UTM
COORDINATE_ZONE: 13
HORIZONTAL_UNITS: METERS
HORIZONTAL_RESOLUTION: 1.00000
SECONDARY_HORIZONTAL_DATUM: NAD27
XY_ORIGIN: 401240.00000 4997897.00000
SECONDARY_XY_ORIGIN: 401282.98700 4997679.89200
NATION: US
NATION: "SCIENCE
STATE: MT
NW_QUAD_CORNER_XY: 401695.35100 4997596.43800
NE_QUAD_CORNER_XY: 406610.58100 4997522.33600
SE_QUAD_CORNERY_XY: 406508.64700 4990579.26600
SW_QUAD_CORNER_XY: 401588.05000 4990653.36900
SECONDARY_NW_QUAD_XY: 401692.44100 4997379.16000
SECONDARY_NE_QUAD_XY: 406607.81700 4997305.05600
SECONDARY_SE_QUAD_XY: 406505.88400 4990362.04000
SECONDARY_SW_QUAD_XY: 401585.14100 4990436.14500
RMSE_XY: 2.70000
IMAGE_SOURCE: BLACK AND WHITE FILM
SOURCE_IMAGE_ID: NAPP 9090 175
SOURCE_IMAGE_DATE: 1996 07 07
SOURCE_IMAGE_ID: NAPP 9102 103
SOURCE_IMAGE_DATE: 1996 07 14
SOURCE_IMAGE_ID: NAPP 9090 174
SOURCE_IMAGE_DATE: 1996 07 07
SOURCE_IMAGE_ID: NAPP 9090 173
SOURCE_IMAGE_DATE: 1996 07 07
SOURCE_DEM_DATE: 1992 03 00
AGENCY: WESTERN MAPPING CENTER (WMC)
PRODUCER: UNDEFINED
PRODUCTION_SYSTEM: GIS/MAGIC
COMPRESSION: UNDEFINED
STANDARD_VERSION: 1996 12
METADATA_DATE: 1999 06 15
DATA_FILE_SIZE: 43231984
BYTE_COUNT: 5672
