FILENAME: O4510664.NWS.840638.tif
QUADRANGLE_NAME: SAYLE HALL
QUADRANT: NW
WEST_LONGITUDE: -106 7 30.00000
EAST_LONGITUDE: -106 3 45.00000
NORTH_LATITUDE: 45 7 30.00000
SOUTH_LATITUDE: 45 3 45.00000
PRODUCTION_DATE: 1997 11 21
RASTER_ORDER: LEFT_RIGHT/TOP_BOTTOM
BAND_ORGANIZATION: SINGLE FILE
BAND_CONTENT: BLACK&WHITE
BAND_CONTENT: UNDEFINED
BAND_CONTENT: UNDEFINED
BITS_PER_PIXEL: 8
SAMPLES_AND_LINES: 5657 7610
HORIZONTAL_DATUM: NAD83
HORIZONTAL_COORDINATE_SYSTEM: UTM
COORDINATE_ZONE: 13
HORIZONTAL_UNITS: METERS
HORIZONTAL_RESOLUTION: 1.00000
SECONDARY_HORIZONTAL_DATUM: NAD27
XY_ORIGIN: 411084.50000 4997751.50000
SECONDARY_XY_ORIGIN: 411127.21500 4997534.63600
NATION: US
STATE: MT
NW_QUAD_CORNER_XY: 411525.81200 4997452.03500
NE_QUAD_CORNER_XY: 416441.04300 4997385.53500
SE_QUAD_CORNERY_XY: 416349.84100 4990442.46500
SW_QUAD_CORNER_XY: 411429.24400 4990508.96500
SECONDARY_NW_QUAD_XY: 411523.19300 4997234.75300
SECONDARY_NE_QUAD_XY: 416438.57000 4997168.25100
SECONDARY_SE_QUAD_XY: 416347.36900 4990225.23500
SECONDARY_SW_QUAD_XY: 411426.62600 4990291.73700
RMSE_XY: 0.80000
IMAGE_SOURCE: BLACK & WHITE FILM
SOURCE_IMAGE_ID: NAPP 3731 106
SOURCE_IMAGE_DATE: 1991 06 12
SOURCE_DEM_DATE: 1972 01 01
AGENCY: WESTERN MAPPING CENTER (WMC)
PRODUCER: NIES MAPPING GROUP, INC.
PRODUCTION_SYSTEM: INTERGRAPH MODEL_SETUP, BASE_RECTIFIER
COMPRESSION: UNDEFINED
STANDARD_VERSION: 1996 12
METADATA_DATE: 1997 11 21
DATA_FILE_SIZE: 43055427
BYTE_COUNT: 5657
