FILENAME: O4510664.NES.840637.tif
QUADRANGLE_NAME: SAYLE HALL
QUADRANT: NE
WEST_LONGITUDE: -106 3 45.00000
EAST_LONGITUDE: -106 0 0.00000
NORTH_LATITUDE: 45 7 30.00000
SOUTH_LATITUDE: 45 3 45.00000
PRODUCTION_DATE: 1997 11 21
RASTER_ORDER: LEFT_RIGHT/TOP_BOTTOM
BAND_ORGANIZATION: SINGLE FILE
BAND_CONTENT: BLACK&WHITE
BAND_CONTENT: UNDEFINED
BAND_CONTENT: UNDEFINED
BITS_PER_PIXEL: 8
SAMPLES_AND_LINES: 5651 7606
HORIZONTAL_DATUM: NAD83
HORIZONTAL_COORDINATE_SYSTEM: UTM
COORDINATE_ZONE: 13
HORIZONTAL_UNITS: METERS
HORIZONTAL_RESOLUTION: 1.00000
SECONDARY_HORIZONTAL_DATUM: NAD27
XY_ORIGIN: 416005.50000 4997684.50000
SECONDARY_XY_ORIGIN: 416048.07800 4997467.76000
NATION: US
STATE: MT
NW_QUAD_CORNER_XY: 416441.04300 4997385.53500
NE_QUAD_CORNER_XY: 421356.27400 4997322.83600
SE_QUAD_CORNERY_XY: 421270.43800 4990379.76500
SW_QUAD_CORNER_XY: 416349.84100 4990442.46500
SECONDARY_NW_QUAD_XY: 416438.57000 4997168.25100
SECONDARY_NE_QUAD_XY: 421353.94700 4997105.55000
SECONDARY_SE_QUAD_XY: 421268.11200 4990162.53400
SECONDARY_SW_QUAD_XY: 416347.36900 4990225.23500
RMSE_XY: 1.26000
IMAGE_SOURCE: BLACK & WHITE FILM
SOURCE_IMAGE_ID: NAPP 3731 180
SOURCE_IMAGE_DATE: 1991 06 12
SOURCE_DEM_DATE: 1972 01 01
AGENCY: WESTERN MAPPING CENTER (WMC)
PRODUCER: NIES MAPPING GROUP, INC.
PRODUCTION_SYSTEM: INTERGRAPH MODEL_SETUP, BASE_RECTIFIER
COMPRESSION: UNDEFINED
STANDARD_VERSION: 1996 12
METADATA_DATE: 1997 11 21
DATA_FILE_SIZE: 42987157
BYTE_COUNT: 5651
