FILENAME: O4510515.SWS.1167543.tif
QUADRANGLE_NAME: SNAKE BUTTE
QUADRANT: SW
WEST_LONGITUDE: -105 15 0.00000
EAST_LONGITUDE: -105 11 15.00000
NORTH_LATITUDE: 45 48 45.00000
SOUTH_LATITUDE: 45 45 0.00000
PRODUCTION_DATE: 2001 11 17
RASTER_ORDER: LEFT_RIGHT/TOP_BOTTOM
BAND_ORGANIZATION: SINGLE FILE
BAND_CONTENT: BLACK&WHITE
BAND_CONTENT: UNDEFINED
BAND_CONTENT: UNDEFINED
BITS_PER_PIXEL: 8
SAMPLES_AND_LINES: 5522 7561
HORIZONTAL_DATUM: NAD83
HORIZONTAL_COORDINATE_SYSTEM: UTM
COORDINATE_ZONE: 13
HORIZONTAL_UNITS: METERS
HORIZONTAL_RESOLUTION: 1.00000
SECONDARY_HORIZONTAL_DATUM: NAD27
XY_ORIGIN: 480212.00000 5073547.00000
SECONDARY_XY_ORIGIN: 480253.00000 5073330.00000
NATION: US
STATE: MT
NW_QUAD_CORNER_XY: 480576.64000 5073245.68500
NE_QUAD_CORNER_XY: 485432.48000 5073232.39200
SE_QUAD_CORNERY_XY: 485416.19400 5066288.48100
SW_QUAD_CORNER_XY: 480554.92600 5066301.77600
SECONDARY_NW_QUAD_XY: 480576.05700 5073027.84500
SECONDARY_NE_QUAD_XY: 485432.04200 5073014.55100
SECONDARY_SE_QUAD_XY: 485415.75600 5066070.68500
SECONDARY_SW_QUAD_XY: 480554.34200 5066083.98000
RMSE_XY: 1.20000
IMAGE_SOURCE: BLACK AND WHITE FILM
SOURCE_IMAGE_ID: NAPP 9119 206
SOURCE_IMAGE_DATE: 1996 8 26
SOURCE_DEM_DATE: 1972 00 00
AGENCY: ROCKY MOUNTAIN MAPPING CENTER (RMMC)
PRODUCER: ROCKY MOUNTAIN MAPPING CENTER (RMMC)
PRODUCTION_SYSTEM: DV2.6.4 1/00 OV2.6 6/00
COMPRESSION: UNDEFINED
STANDARD_VERSION: 1996 12
METADATA_DATE: 2001 11 17
DATA_FILE_SIZE: 41757364
BYTE_COUNT: 5522
