FILENAME: O4510515.NWS.1167541.tif
QUADRANGLE_NAME: SNAKE BUTTE
QUADRANT: NW
WEST_LONGITUDE: -105 15 0.00000
EAST_LONGITUDE: -105 11 15.00000
NORTH_LATITUDE: 45 52 30.00000
SOUTH_LATITUDE: 45 48 45.00000
PRODUCTION_DATE: 2001 11 17
RASTER_ORDER: LEFT_RIGHT/TOP_BOTTOM
BAND_ORGANIZATION: SINGLE FILE
BAND_CONTENT: BLACK&WHITE
BAND_CONTENT: UNDEFINED
BAND_CONTENT: UNDEFINED
BITS_PER_PIXEL: 8
SAMPLES_AND_LINES: 5517 7561
HORIZONTAL_DATUM: NAD83
HORIZONTAL_COORDINATE_SYSTEM: UTM
COORDINATE_ZONE: 13
HORIZONTAL_UNITS: METERS
HORIZONTAL_RESOLUTION: 1.00000
SECONDARY_HORIZONTAL_DATUM: NAD27
XY_ORIGIN: 480234.00000 5080491.00000
SECONDARY_XY_ORIGIN: 480275.07400 5080272.99500
NATION: US
STATE: MT
NW_QUAD_CORNER_XY: 480598.37800 5080189.67100
NE_QUAD_CORNER_XY: 485448.78300 5080176.37800
SE_QUAD_CORNERY_XY: 485432.48000 5073232.39200
SW_QUAD_CORNER_XY: 480576.64000 5073245.68500
SECONDARY_NW_QUAD_XY: 480597.79500 5079971.78700
SECONDARY_NE_QUAD_XY: 485448.34500 5079958.49300
SECONDARY_SE_QUAD_XY: 485432.04200 5073014.55100
SECONDARY_SW_QUAD_XY: 480576.05700 5073027.84500
RMSE_XY: 1.60000
IMAGE_SOURCE: BLACK AND WHITE FILM
SOURCE_IMAGE_ID: NAPP 9119 208
SOURCE_IMAGE_DATE: 1996 8 26
SOURCE_DEM_DATE: 1972 00 00
AGENCY: ROCKY MOUNTAIN MAPPING CENTER (RMMC)
PRODUCER: ROCKY MOUNTAIN MAPPING CENTER (RMMC)
PRODUCTION_SYSTEM: DV2.6.4 1/00 OV2.6 6/00
COMPRESSION: UNDEFINED
STANDARD_VERSION: 1996 12
METADATA_DATE: 2001 11 17
DATA_FILE_SIZE: 41719554
BYTE_COUNT: 5517
