FILENAME: O4510524.SWS.1167557.tif
QUADRANGLE_NAME: RATTLESNAKE RIDGE
QUADRANT: SW
WEST_LONGITUDE: -105 7 30.00000
EAST_LONGITUDE: -105 3 45.00000
NORTH_LATITUDE: 45 41 15.00000
SOUTH_LATITUDE: 45 37 30.00000
PRODUCTION_DATE: 2001 11 17
RASTER_ORDER: LEFT_RIGHT/TOP_BOTTOM
BAND_ORGANIZATION: SINGLE FILE
BAND_CONTENT: BLACK&WHITE
BAND_CONTENT: UNDEFINED
BAND_CONTENT: UNDEFINED
BITS_PER_PIXEL: 8
SAMPLES_AND_LINES: 5522 7553
HORIZONTAL_DATUM: NAD83
HORIZONTAL_COORDINATE_SYSTEM: UTM
COORDINATE_ZONE: 13
HORIZONTAL_UNITS: METERS
HORIZONTAL_RESOLUTION: 1.00000
SECONDARY_HORIZONTAL_DATUM: NAD27
XY_ORIGIN: 489913.00000 5059636.00000
SECONDARY_XY_ORIGIN: 489954.00000 5059419.00000
NATION: US
STATE: MT
NW_QUAD_CORNER_XY: 490266.61700 5059335.15000
NE_QUAD_CORNER_XY: 495133.30800 5059329.45200
SE_QUAD_CORNERY_XY: 495127.89100 5052385.69300
SW_QUAD_CORNER_XY: 490255.78300 5052391.39100
SECONDARY_NW_QUAD_XY: 490266.32500 5059117.39900
SECONDARY_NE_QUAD_XY: 495133.16300 5059111.70100
SECONDARY_SE_QUAD_XY: 495127.74600 5052167.98900
SECONDARY_SW_QUAD_XY: 490255.49100 5052173.68700
RMSE_XY: 1.20000
IMAGE_SOURCE: BLACK AND WHITE FILM
SOURCE_IMAGE_ID: NAPP 9119 88
SOURCE_IMAGE_DATE: 1996 8 26
SOURCE_DEM_DATE: 1972 00 00
AGENCY: ROCKY MOUNTAIN MAPPING CENTER (RMMC)
PRODUCER: ROCKY MOUNTAIN MAPPING CENTER (RMMC)
PRODUCTION_SYSTEM: DV2.6.4 1/00 OV2.6 6/00
COMPRESSION: UNDEFINED
STANDARD_VERSION: 1996 12
METADATA_DATE: 2001 11 17
DATA_FILE_SIZE: 41713188
BYTE_COUNT: 5522
