FILENAME: O4510531.SWS.1167572.tif
QUADRANGLE_NAME: DEER CREEK BUTTES
QUADRANT: SW
WEST_LONGITUDE: -105 15 0.00000
EAST_LONGITUDE: -105 11 15.00000
NORTH_LATITUDE: 45 33 45.00000
SOUTH_LATITUDE: 45 30 0.00000
PRODUCTION_DATE: 2001 11 17
RASTER_ORDER: LEFT_RIGHT/TOP_BOTTOM
BAND_ORGANIZATION: SINGLE FILE
BAND_CONTENT: BLACK&WHITE
BAND_CONTENT: UNDEFINED
BAND_CONTENT: UNDEFINED
BITS_PER_PIXEL: 8
SAMPLES_AND_LINES: 5544 7561
HORIZONTAL_DATUM: NAD83
HORIZONTAL_COORDINATE_SYSTEM: UTM
COORDINATE_ZONE: 13
HORIZONTAL_UNITS: METERS
HORIZONTAL_RESOLUTION: 1.00000
SECONDARY_HORIZONTAL_DATUM: NAD27
XY_ORIGIN: 480125.00000 5045772.00000
SECONDARY_XY_ORIGIN: 480166.00000 5045555.00000
NATION: US
STATE: MT
NW_QUAD_CORNER_XY: 480489.92200 5045470.50300
NE_QUAD_CORNER_XY: 485367.44100 5045457.20600
SE_QUAD_CORNERY_XY: 485351.22500 5038513.60100
SW_QUAD_CORNER_XY: 480468.30100 5038526.89700
SECONDARY_NW_QUAD_XY: 480489.33900 5045252.84700
SECONDARY_NE_QUAD_XY: 485367.00400 5045239.55000
SECONDARY_SE_QUAD_XY: 485350.78800 5038295.99300
SECONDARY_SW_QUAD_XY: 480467.71800 5038309.29000
RMSE_XY: 0.50000
IMAGE_SOURCE: BLACK AND WHITE FILM
SOURCE_IMAGE_ID: NAPP 9119 198
SOURCE_IMAGE_DATE: 1996 8 26
SOURCE_DEM_DATE: 1972 00 00
AGENCY: ROCKY MOUNTAIN MAPPING CENTER (RMMC)
PRODUCER: ROCKY MOUNTAIN MAPPING CENTER (RMMC)
PRODUCTION_SYSTEM: DV2.6.4 1/00 OV2.6 6/00
COMPRESSION: UNDEFINED
STANDARD_VERSION: 1996 12
METADATA_DATE: 2001 11 17
DATA_FILE_SIZE: 41923728
BYTE_COUNT: 5544
