FILENAME: O4510531.NWS.1167570.tif
QUADRANGLE_NAME: DEER CREEK BUTTES
QUADRANT: NW
WEST_LONGITUDE: -105 15 0.00000
EAST_LONGITUDE: -105 11 15.00000
NORTH_LATITUDE: 45 37 30.00000
SOUTH_LATITUDE: 45 33 45.00000
PRODUCTION_DATE: 2001 11 27
RASTER_ORDER: LEFT_RIGHT/TOP_BOTTOM
BAND_ORGANIZATION: SINGLE FILE
BAND_CONTENT: BLACK&WHITE
BAND_CONTENT: UNDEFINED
BAND_CONTENT: UNDEFINED
BITS_PER_PIXEL: 8
SAMPLES_AND_LINES: 5536 7560
HORIZONTAL_DATUM: NAD83
HORIZONTAL_COORDINATE_SYSTEM: UTM
COORDINATE_ZONE: 13
HORIZONTAL_UNITS: METERS
HORIZONTAL_RESOLUTION: 1.00000
SECONDARY_HORIZONTAL_DATUM: NAD27
XY_ORIGIN: 480147.00000 5052715.00000
SECONDARY_XY_ORIGIN: 480188.45500 5052497.62300
NATION: US
STATE: MT
NW_QUAD_CORNER_XY: 480511.56700 5052414.18400
NE_QUAD_CORNER_XY: 485383.67500 5052400.88800
SE_QUAD_CORNERY_XY: 485367.44100 5045457.20600
SW_QUAD_CORNER_XY: 480489.92200 5045470.50300
SECONDARY_NW_QUAD_XY: 480510.98400 5052196.48100
SECONDARY_NE_QUAD_XY: 485383.23700 5052183.18500
SECONDARY_SE_QUAD_XY: 485367.00400 5045239.55000
SECONDARY_SW_QUAD_XY: 480489.33900 5045252.84700
RMSE_XY: 1.20000
IMAGE_SOURCE: BLACK AND WHITE FILM
SOURCE_IMAGE_ID: NAPP 9119 200
SOURCE_IMAGE_DATE: 1996 8 26
SOURCE_DEM_DATE: 1972 00 00
AGENCY: ROCKY MOUNTAIN MAPPING CENTER (RMMC)
PRODUCER: ROCKY MOUNTAIN MAPPING CENTER (RMMC)
PRODUCTION_SYSTEM: DV2.6.3 10/9OV2.4 5/95
COMPRESSION: UNDEFINED
STANDARD_VERSION: 1996 12
METADATA_DATE: 2001 11 27
DATA_FILE_SIZE: 41857696
BYTE_COUNT: 5536
