FILENAME: O4510532.SES.1167575.tif
QUADRANGLE_NAME: MCKENZIE CREEK
QUADRANT: SE
WEST_LONGITUDE: -105 3 45.00000
EAST_LONGITUDE: -105 0 0.00000
NORTH_LATITUDE: 45 33 45.00000
SOUTH_LATITUDE: 45 30 0.00000
PRODUCTION_DATE: 2001 11 19
RASTER_ORDER: LEFT_RIGHT/TOP_BOTTOM
BAND_ORGANIZATION: SINGLE FILE
BAND_CONTENT: BLACK&WHITE
BAND_CONTENT: UNDEFINED
BAND_CONTENT: UNDEFINED
BITS_PER_PIXEL: 8
SAMPLES_AND_LINES: 5528 7549
HORIZONTAL_DATUM: NAD83
HORIZONTAL_COORDINATE_SYSTEM: UTM
COORDINATE_ZONE: 13
HORIZONTAL_UNITS: METERS
HORIZONTAL_RESOLUTION: 1.00000
SECONDARY_HORIZONTAL_DATUM: NAD27
XY_ORIGIN: 494774.00000 5045743.00000
SECONDARY_XY_ORIGIN: 494815.34800 5045525.96000
NATION: US
STATE: MT
NW_QUAD_CORNER_XY: 495122.48000 5045442.01000
NE_QUAD_CORNER_XY: 500000.00000 5045440.11100
SE_QUAD_CORNERY_XY: 500000.00000 5038496.50500
SW_QUAD_CORNER_XY: 495117.07500 5038498.40400
SECONDARY_NW_QUAD_XY: 495122.33500 5045224.35400
SECONDARY_NE_QUAD_XY: 500000.00000 5045222.45400
SECONDARY_SE_QUAD_XY: 500000.00000 5038278.89600
SECONDARY_SW_QUAD_XY: 495116.92900 5038280.79600
RMSE_XY: 0.50000
IMAGE_SOURCE: BLACK AND WHITE FILM
SOURCE_IMAGE_ID: NAPP 9119 49
SOURCE_IMAGE_DATE: 1996 8 26
SOURCE_DEM_DATE: 1972 00 00
AGENCY: ROCKY MOUNTAIN MAPPING CENTER (RMMC)
PRODUCER: ROCKY MOUNTAIN MAPPING CENTER (RMMC)
PRODUCTION_SYSTEM: DV2.6.4 1/00 OV2.6 6/00
COMPRESSION: UNDEFINED
STANDARD_VERSION: 1996 12
METADATA_DATE: 2001 11 19
DATA_FILE_SIZE: 41736400
BYTE_COUNT: 5528
