FILENAME: O4510539.SWS.1167580.tif
QUADRANGLE_NAME: LITTLE PILGRIM BUTTE
QUADRANT: SW
WEST_LONGITUDE: -105 15 0.00000
EAST_LONGITUDE: -105 11 15.00000
NORTH_LATITUDE: 45 26 15.00000
SOUTH_LATITUDE: 45 22 30.00000
PRODUCTION_DATE: 2001 11 27
RASTER_ORDER: LEFT_RIGHT/TOP_BOTTOM
BAND_ORGANIZATION: SINGLE FILE
BAND_CONTENT: BLACK&WHITE
BAND_CONTENT: UNDEFINED
BAND_CONTENT: UNDEFINED
BITS_PER_PIXEL: 8
SAMPLES_AND_LINES: 5552 7560
HORIZONTAL_DATUM: NAD83
HORIZONTAL_COORDINATE_SYSTEM: UTM
COORDINATE_ZONE: 13
HORIZONTAL_UNITS: METERS
HORIZONTAL_RESOLUTION: 1.00000
SECONDARY_HORIZONTAL_DATUM: NAD27
XY_ORIGIN: 480082.00000 5031884.00000
SECONDARY_XY_ORIGIN: 480123.79800 5031667.23100
NATION: US
STATE: MT
NW_QUAD_CORNER_XY: 480446.70300 5031583.36800
NE_QUAD_CORNER_XY: 485335.02700 5031570.07100
SE_QUAD_CORNERY_XY: 485318.84600 5024626.61800
SW_QUAD_CORNER_XY: 480425.12900 5024639.91500
SECONDARY_NW_QUAD_XY: 480446.12000 5031365.81000
SECONDARY_NE_QUAD_XY: 485334.59000 5031352.51200
SECONDARY_SE_QUAD_XY: 485318.40900 5024409.10900
SECONDARY_SW_QUAD_XY: 480424.54600 5024422.40700
RMSE_XY: 1.60000
IMAGE_SOURCE: BLACK AND WHITE FILM
SOURCE_IMAGE_ID: NAPP 9119 194
SOURCE_IMAGE_DATE: 1996 8 26
SOURCE_DEM_DATE: 1973 00 00
AGENCY: ROCKY MOUNTAIN MAPPING CENTER (RMMC)
PRODUCER: ROCKY MOUNTAIN MAPPING CENTER (RMMC)
PRODUCTION_SYSTEM: DV2.6.3 10/9OV2.4 5/95
COMPRESSION: UNDEFINED
STANDARD_VERSION: 1996 12
METADATA_DATE: 2001 11 27
DATA_FILE_SIZE: 41978672
BYTE_COUNT: 5552
