FILENAME: O4510548.SWS.1167588.tif
QUADRANGLE_NAME: BOYES
QUADRANT: SW
WEST_LONGITUDE: -105 7 30.00000
EAST_LONGITUDE: -105 3 45.00000
NORTH_LATITUDE: 45 18 45.00000
SOUTH_LATITUDE: 45 15 0.00000
PRODUCTION_DATE: 2001 11 16
RASTER_ORDER: LEFT_RIGHT/TOP_BOTTOM
BAND_ORGANIZATION: SINGLE FILE
BAND_CONTENT: BLACK&WHITE
BAND_CONTENT: UNDEFINED
BAND_CONTENT: UNDEFINED
BITS_PER_PIXEL: 8
SAMPLES_AND_LINES: 5555 7554
HORIZONTAL_DATUM: NAD83
HORIZONTAL_COORDINATE_SYSTEM: UTM
COORDINATE_ZONE: 13
HORIZONTAL_UNITS: METERS
HORIZONTAL_RESOLUTION: 1.00000
SECONDARY_HORIZONTAL_DATUM: NAD27
XY_ORIGIN: 489848.00000 5017975.00000
SECONDARY_XY_ORIGIN: 489889.00000 5017759.00000
NATION: US
STATE: MT
NW_QUAD_CORNER_XY: 490201.78900 5017673.74200
NE_QUAD_CORNER_XY: 495100.89400 5017668.04300
SE_QUAD_CORNERY_XY: 495095.51200 5010724.74200
SW_QUAD_CORNER_XY: 490191.02500 5010730.44100
SECONDARY_NW_QUAD_XY: 490201.49700 5017456.28400
SECONDARY_NE_QUAD_XY: 495100.74900 5017450.58500
SECONDARY_SE_QUAD_XY: 495095.36700 5010507.33500
SECONDARY_SW_QUAD_XY: 490190.73400 5010513.03500
RMSE_XY: 1.00000
IMAGE_SOURCE: BLACK AND WHITE FILM
SOURCE_IMAGE_ID: NAPP 9119 76
SOURCE_IMAGE_DATE: 1996 8 26
SOURCE_DEM_DATE: 1973 00 00
AGENCY: ROCKY MOUNTAIN MAPPING CENTER (RMMC)
PRODUCER: ROCKY MOUNTAIN MAPPING CENTER (RMMC)
PRODUCTION_SYSTEM: DV2.6.4 1/00 OV2.6 6/00
COMPRESSION: UNDEFINED
STANDARD_VERSION: 1996 12
METADATA_DATE: 2001 11 16
DATA_FILE_SIZE: 41968025
BYTE_COUNT: 5555
