FILENAME: O4510556.SWS.1167592.tif
QUADRANGLE_NAME: BELLE CREEK NORTH
QUADRANT: SW
WEST_LONGITUDE: -105 7 30.00000
EAST_LONGITUDE: -105 3 45.00000
NORTH_LATITUDE: 45 11 15.00000
SOUTH_LATITUDE: 45 7 30.00000
PRODUCTION_DATE: 2001 11 16
RASTER_ORDER: LEFT_RIGHT/TOP_BOTTOM
BAND_ORGANIZATION: SINGLE FILE
BAND_CONTENT: BLACK&WHITE
BAND_CONTENT: UNDEFINED
BAND_CONTENT: UNDEFINED
BITS_PER_PIXEL: 8
SAMPLES_AND_LINES: 5566 7553
HORIZONTAL_DATUM: NAD83
HORIZONTAL_COORDINATE_SYSTEM: UTM
COORDINATE_ZONE: 13
HORIZONTAL_UNITS: METERS
HORIZONTAL_RESOLUTION: 1.00000
SECONDARY_HORIZONTAL_DATUM: NAD27
XY_ORIGIN: 489826.00000 5004088.00000
SECONDARY_XY_ORIGIN: 489868.00000 5003873.00000
NATION: US
STATE: MT
NW_QUAD_CORNER_XY: 490180.27300 5003787.21600
NE_QUAD_CORNER_XY: 495090.13700 5003781.51700
SE_QUAD_CORNERY_XY: 495084.76600 4996838.36800
SW_QUAD_CORNER_XY: 490169.53300 4996844.06800
SECONDARY_NW_QUAD_XY: 490179.98200 5003569.86300
SECONDARY_NE_QUAD_XY: 495089.99100 5003564.16300
SECONDARY_SE_QUAD_XY: 495084.62100 4996621.06800
SECONDARY_SW_QUAD_XY: 490169.24200 4996626.76800
RMSE_XY: 1.80000
IMAGE_SOURCE: BLACK AND WHITE FILM
SOURCE_IMAGE_ID: NAPP 9119 72
SOURCE_IMAGE_DATE: 1996 8 26
SOURCE_DEM_DATE: 1969 00 00
AGENCY: ROCKY MOUNTAIN MAPPING CENTER (RMMC)
PRODUCER: ROCKY MOUNTAIN MAPPING CENTER (RMMC)
PRODUCTION_SYSTEM: DV2.6.4 1/00 OV2.6 6/00
COMPRESSION: UNDEFINED
STANDARD_VERSION: 1996 12
METADATA_DATE: 2001 11 16
DATA_FILE_SIZE: 42045564
BYTE_COUNT: 5566
