FILENAME: O4510557.SES.840635.tif
QUADRANGLE_NAME: BRADSHAW CREEK
QUADRANT: SE
WEST_LONGITUDE: -105 56 15.00000
EAST_LONGITUDE: -105 52 30.00000
NORTH_LATITUDE: 45 3 45.00000
SOUTH_LATITUDE: 45 0 0.00000
PRODUCTION_DATE: 1997 11 21
RASTER_ORDER: LEFT_RIGHT/TOP_BOTTOM
BAND_ORGANIZATION: SINGLE FILE
BAND_CONTENT: BLACK&WHITE
BAND_CONTENT: UNDEFINED
BAND_CONTENT: UNDEFINED
BITS_PER_PIXEL: 8
SAMPLES_AND_LINES: 5645 7598
HORIZONTAL_DATUM: NAD83
HORIZONTAL_COORDINATE_SYSTEM: UTM
COORDINATE_ZONE: 13
HORIZONTAL_UNITS: METERS
HORIZONTAL_RESOLUTION: 1.00000
SECONDARY_HORIZONTAL_DATUM: NAD27
XY_ORIGIN: 425766.50000 4990619.50000
SECONDARY_XY_ORIGIN: 425809.12000 4990403.12500
NATION: US
STATE: MT
STATE: WY
NW_QUAD_CORNER_XY: 426191.03600 4990320.86600
NE_QUAD_CORNER_XY: 431111.63300 4990265.76800
SE_QUAD_CORNERY_XY: 431036.61100 4983322.77200
SW_QUAD_CORNER_XY: 426110.65400 4983377.87000
SECONDARY_NW_QUAD_XY: 426188.85400 4990103.63300
SECONDARY_NE_QUAD_XY: 431109.59700 4990048.53300
SECONDARY_SE_QUAD_XY: 431034.57600 4983105.59200
SECONDARY_SW_QUAD_XY: 426108.47300 4983160.69200
RMSE_XY: 1.74000
IMAGE_SOURCE: BLACK & WHITE FILM
SOURCE_IMAGE_ID: NAPP 3716 8
SOURCE_IMAGE_DATE: 1992 08 31
SOURCE_DEM_DATE: 1970 01 01
AGENCY: WESTERN MAPPING CENTER (WMC)
PRODUCER: NIES MAPPING GROUP, INC.
PRODUCTION_SYSTEM: INTERGRAPH MODEL_SETUP, BASE_RECTIFIER
COMPRESSION: UNDEFINED
STANDARD_VERSION: 1996 12
METADATA_DATE: 1997 11 21
DATA_FILE_SIZE: 42896355
BYTE_COUNT: 5645
