FILENAME: O4510557.NWS.840634.tif
QUADRANGLE_NAME: BRADSHAW CREEK
QUADRANT: NW
WEST_LONGITUDE: -106 0 0.00000
EAST_LONGITUDE: -105 56 15.00000
NORTH_LATITUDE: 45 7 30.00000
SOUTH_LATITUDE: 45 3 45.00000
PRODUCTION_DATE: 1997 11 21
RASTER_ORDER: LEFT_RIGHT/TOP_BOTTOM
BAND_ORGANIZATION: SINGLE FILE
BAND_CONTENT: BLACK&WHITE
BAND_CONTENT: UNDEFINED
BAND_CONTENT: UNDEFINED
BITS_PER_PIXEL: 8
SAMPLES_AND_LINES: 5645 7602
HORIZONTAL_DATUM: NAD83
HORIZONTAL_COORDINATE_SYSTEM: UTM
COORDINATE_ZONE: 13
HORIZONTAL_UNITS: METERS
HORIZONTAL_RESOLUTION: 1.00000
SECONDARY_HORIZONTAL_DATUM: NAD27
XY_ORIGIN: 420926.50000 4997621.50000
SECONDARY_XY_ORIGIN: 420968.94200 4997404.88400
NATION: US
STATE: MT
NW_QUAD_CORNER_XY: 421356.27400 4997322.83600
NE_QUAD_CORNER_XY: 426271.50600 4997263.93700
SE_QUAD_CORNERY_XY: 426191.03600 4990320.86600
SW_QUAD_CORNER_XY: 421270.43800 4990379.76500
SECONDARY_NW_QUAD_XY: 421353.94700 4997105.55000
SECONDARY_NE_QUAD_XY: 426269.32400 4997046.64900
SECONDARY_SE_QUAD_XY: 426188.85400 4990103.63300
SECONDARY_SW_QUAD_XY: 421268.11200 4990162.53400
RMSE_XY: 1.67000
IMAGE_SOURCE: BLACK & WHITE FILM
SOURCE_IMAGE_ID: NAPP 3702 35
SOURCE_IMAGE_DATE: 1991 08 08
SOURCE_DEM_DATE: 1970 01 01
AGENCY: WESTERN MAPPING CENTER (WMC)
PRODUCER: NIES MAPPING GROUP, INC.
PRODUCTION_SYSTEM: INTERGRAPH MODEL_SETUP, BASE_RECTIFIER
COMPRESSION: UNDEFINED
STANDARD_VERSION: 1996 12
METADATA_DATE: 1997 11 21
DATA_FILE_SIZE: 42918935
BYTE_COUNT: 5645
