FILENAME: O4510558.NWS.840610.tif
QUADRANGLE_NAME: MOORHEAD
QUADRANT: NW
WEST_LONGITUDE: -105 52 30.00000
EAST_LONGITUDE: -105 48 45.00000
NORTH_LATITUDE: 45 7 30.00000
SOUTH_LATITUDE: 45 3 45.00000
PRODUCTION_DATE: 1997 11 18
RASTER_ORDER: LEFT_RIGHT/TOP_BOTTOM
BAND_ORGANIZATION: SINGLE FILE
BAND_CONTENT: BLACK&WHITE
BAND_CONTENT: UNDEFINED
BAND_CONTENT: UNDEFINED
BITS_PER_PIXEL: 8
SAMPLES_AND_LINES: 5634 7594
HORIZONTAL_DATUM: NAD83
HORIZONTAL_COORDINATE_SYSTEM: UTM
COORDINATE_ZONE: 13
HORIZONTAL_UNITS: METERS
HORIZONTAL_RESOLUTION: 1.00000
SECONDARY_HORIZONTAL_DATUM: NAD27
XY_ORIGIN: 430767.50000 4997507.50000
SECONDARY_XY_ORIGIN: 430809.90900 4997291.04400
NATION: US
STATE: MT
NW_QUAD_CORNER_XY: 431186.73800 4997208.83900
NE_QUAD_CORNER_XY: 436101.97000 4997157.54100
SE_QUAD_CORNERY_XY: 436032.23100 4990214.47000
SW_QUAD_CORNER_XY: 431111.63300 4990265.76800
SECONDARY_NW_QUAD_XY: 431184.70100 4996991.55000
SECONDARY_NE_QUAD_XY: 436100.07900 4996940.25100
SECONDARY_SE_QUAD_XY: 436030.34000 4989997.23400
SECONDARY_SW_QUAD_XY: 431109.59700 4990048.53300
RMSE_XY: 1.42000
IMAGE_SOURCE: BLACK & WHITE FILM
SOURCE_IMAGE_ID: NAPP 3708 123
SOURCE_IMAGE_DATE: 1991 08 30
SOURCE_DEM_DATE: 1970 01 01
AGENCY: WESTERN MAPPING CENTER (WMC)
PRODUCER: NIES MAPPING GROUP, INC.
PRODUCTION_SYSTEM: INTERGRAPH MODEL_SETUP, BASE_RECTIFIER
COMPRESSION: UNDEFINED
STANDARD_VERSION: 1996 12
METADATA_DATE: 1997 11 18
DATA_FILE_SIZE: 42790230
BYTE_COUNT: 5634
