FILENAME: O4510559.NWS.840616.tif
QUADRANGLE_NAME: THREE BAR RANCH
QUADRANT: NW
WEST_LONGITUDE: -105 45 0.00000
EAST_LONGITUDE: -105 41 15.00000
NORTH_LATITUDE: 45 7 30.00000
SOUTH_LATITUDE: 45 3 45.00000
PRODUCTION_DATE: 1997 11 16
RASTER_ORDER: LEFT_RIGHT/TOP_BOTTOM
BAND_ORGANIZATION: SINGLE FILE
BAND_CONTENT: BLACK&WHITE
BAND_CONTENT: UNDEFINED
BAND_CONTENT: UNDEFINED
BITS_PER_PIXEL: 8
SAMPLES_AND_LINES: 5623 7587
HORIZONTAL_DATUM: NAD83
HORIZONTAL_COORDINATE_SYSTEM: UTM
COORDINATE_ZONE: 13
HORIZONTAL_UNITS: METERS
HORIZONTAL_RESOLUTION: 1.00000
SECONDARY_HORIZONTAL_DATUM: NAD27
XY_ORIGIN: 440609.50000 4997409.50000
SECONDARY_XY_ORIGIN: 440651.88700 4997193.20000
NATION: US
STATE: MT
NW_QUAD_CORNER_XY: 441017.20200 4997110.04400
NE_QUAD_CORNER_XY: 445932.43400 4997066.34700
SE_QUAD_CORNERY_XY: 445873.42600 4990123.27600
SW_QUAD_CORNER_XY: 440952.82800 4990166.97300
SECONDARY_NW_QUAD_XY: 441015.45600 4996892.75200
SECONDARY_NE_QUAD_XY: 445930.83400 4996849.05300
SECONDARY_SE_QUAD_XY: 445871.82600 4989906.03600
SECONDARY_SW_QUAD_XY: 440951.08300 4989949.73500
RMSE_XY: 1.98000
IMAGE_SOURCE: BLACK & WHITE FILM
SOURCE_IMAGE_ID: NAPP 3708 79
SOURCE_IMAGE_DATE: 1991 08 30
SOURCE_DEM_DATE: 1997 01 01
AGENCY: WESTERN MAPPING CENTER (WMC)
PRODUCER: NIES MAPPING GROUP, INC.
PRODUCTION_SYSTEM: INTERGRAPH MODEL_SETUP, BASE_RECTIFIER
COMPRESSION: UNDEFINED
STANDARD_VERSION: 1996 12
METADATA_DATE: 1997 11 16
DATA_FILE_SIZE: 42667324
BYTE_COUNT: 5623
