FILENAME: O4510560.SWS.840624.tif
QUADRANGLE_NAME: BAY HORSE
QUADRANT: SW
WEST_LONGITUDE: -105 37 30.00000
EAST_LONGITUDE: -105 33 45.00000
NORTH_LATITUDE: 45 3 45.00000
SOUTH_LATITUDE: 45 0 0.00000
PRODUCTION_DATE: 1997 11 11
RASTER_ORDER: LEFT_RIGHT/TOP_BOTTOM
BAND_ORGANIZATION: SINGLE FILE
BAND_CONTENT: BLACK&WHITE
BAND_CONTENT: UNDEFINED
BAND_CONTENT: UNDEFINED
BITS_PER_PIXEL: 8
SAMPLES_AND_LINES: 5617 7580
HORIZONTAL_DATUM: NAD83
HORIZONTAL_COORDINATE_SYSTEM: UTM
COORDINATE_ZONE: 13
HORIZONTAL_UNITS: METERS
HORIZONTAL_RESOLUTION: 1.00000
SECONDARY_HORIZONTAL_DATUM: NAD27
XY_ORIGIN: 450397.50000 4990382.50000
SECONDARY_XY_ORIGIN: 450440.01000 4990166.48000
NATION: US
STATE: MT
STATE: WY
NW_QUAD_CORNER_XY: 450794.02300 4990083.37800
NE_QUAD_CORNER_XY: 455714.62100 4990047.28100
SE_QUAD_CORNERY_XY: 455666.39500 4983104.28500
SW_QUAD_CORNER_XY: 450740.43800 4983140.38200
SECONDARY_NW_QUAD_XY: 450792.56900 4989866.13800
SECONDARY_NE_QUAD_XY: 455713.31200 4989830.04000
SECONDARY_SE_QUAD_XY: 455665.08600 4982887.09900
SECONDARY_SW_QUAD_XY: 450738.98400 4982923.19700
RMSE_XY: 1.93000
IMAGE_SOURCE: BLACK & WHITE FILM
SOURCE_IMAGE_ID: NAPP 3698 25
SOURCE_IMAGE_DATE: 1991 07 02
SOURCE_DEM_DATE: 1970 01 01
AGENCY: WESTERN MAPPING CENTER (WMC)
PRODUCER: NIES MAPPING GROUP, INC.
PRODUCTION_SYSTEM: INTERGRAPH MODEL_SETUP, BASE_RECTIFIER
COMPRESSION: UNDEFINED
STANDARD_VERSION: 1996 12
METADATA_DATE: 1997 11 11
DATA_FILE_SIZE: 42582477
BYTE_COUNT: 5617
