FILENAME: O4510563.SWS.840680.tif
QUADRANGLE_NAME: BELLE CREEK SW
QUADRANT: SW
WEST_LONGITUDE: -105 15 0.00000
EAST_LONGITUDE: -105 11 15.00000
NORTH_LATITUDE: 45 3 45.00000
SOUTH_LATITUDE: 45 0 0.00000
PRODUCTION_DATE: 1997 11 11
RASTER_ORDER: LEFT_RIGHT/TOP_BOTTOM
BAND_ORGANIZATION: SINGLE FILE
BAND_CONTENT: BLACK&WHITE
BAND_CONTENT: UNDEFINED
BAND_CONTENT: UNDEFINED
BITS_PER_PIXEL: 8
SAMPLES_AND_LINES: 5584 7557
HORIZONTAL_DATUM: NAD83
HORIZONTAL_COORDINATE_SYSTEM: UTM
COORDINATE_ZONE: 13
HORIZONTAL_UNITS: METERS
HORIZONTAL_RESOLUTION: 1.00000
SECONDARY_HORIZONTAL_DATUM: NAD27
XY_ORIGIN: 479954.50000 4990222.50000
SECONDARY_XY_ORIGIN: 479996.84900 4990006.72200
NATION: US
STATE: MT
STATE: WY
NW_QUAD_CORNER_XY: 480317.60900 4989923.79300
NE_QUAD_CORNER_XY: 485238.20700 4989910.49500
SE_QUAD_CORNERY_XY: 485222.13200 4982967.49900
SW_QUAD_CORNER_XY: 480296.17600 4982980.79700
SECONDARY_NW_QUAD_XY: 480317.02700 4989706.54800
SECONDARY_NE_QUAD_XY: 485237.77100 4989693.24900
SECONDARY_SE_QUAD_XY: 485221.69600 4982750.30800
SECONDARY_SW_QUAD_XY: 480295.59400 4982763.60700
RMSE_XY: 1.20000
IMAGE_SOURCE: BLACK & WHITE FILM
SOURCE_IMAGE_ID: NAPP 3698 135
SOURCE_IMAGE_DATE: 1991 07 03
SOURCE_DEM_DATE: 1997 01 01
AGENCY: WESTERN MAPPING CENTER (WMC)
PRODUCER: NIES MAPPING GROUP, INC.
PRODUCTION_SYSTEM: INTERGRAPH MODEL_SETUP, BASE_RECTIFIER
COMPRESSION: UNDEFINED
STANDARD_VERSION: 1996 12
METADATA_DATE: 1997 11 11
DATA_FILE_SIZE: 42203872
BYTE_COUNT: 5584
